BEGIN:VCALENDAR
VERSION:2.0
PRODID:-//Musikverein Edelweiß - ECPv6.15.17//NONSGML v1.0//EN
CALSCALE:GREGORIAN
METHOD:PUBLISH
X-ORIGINAL-URL:https://docker.mv-sulzbach.de
X-WR-CALDESC:Veranstaltungen für Musikverein Edelweiß
REFRESH-INTERVAL;VALUE=DURATION:PT1H
X-Robots-Tag:noindex
X-PUBLISHED-TTL:PT1H
BEGIN:VTIMEZONE
TZID:Europe/Berlin
BEGIN:DAYLIGHT
TZOFFSETFROM:+0100
TZOFFSETTO:+0200
TZNAME:CEST
DTSTART:20200329T010000
END:DAYLIGHT
BEGIN:STANDARD
TZOFFSETFROM:+0200
TZOFFSETTO:+0100
TZNAME:CET
DTSTART:20201025T010000
END:STANDARD
BEGIN:DAYLIGHT
TZOFFSETFROM:+0100
TZOFFSETTO:+0200
TZNAME:CEST
DTSTART:20210328T010000
END:DAYLIGHT
BEGIN:STANDARD
TZOFFSETFROM:+0200
TZOFFSETTO:+0100
TZNAME:CET
DTSTART:20211031T010000
END:STANDARD
BEGIN:DAYLIGHT
TZOFFSETFROM:+0100
TZOFFSETTO:+0200
TZNAME:CEST
DTSTART:20220327T010000
END:DAYLIGHT
BEGIN:STANDARD
TZOFFSETFROM:+0200
TZOFFSETTO:+0100
TZNAME:CET
DTSTART:20221030T010000
END:STANDARD
END:VTIMEZONE
BEGIN:VEVENT
DTSTART;TZID=Europe/Berlin:20210802T193000
DTEND;TZID=Europe/Berlin:20210802T213000
DTSTAMP:20260425T160115
CREATED:20210622T052741Z
LAST-MODIFIED:20210622T052741Z
UID:5023-1627932600-1627939800@docker.mv-sulzbach.de
SUMMARY:Ausschusssitzung
DESCRIPTION:
URL:https://docker.mv-sulzbach.de/event/ausschusssitzung-52/
LOCATION:Braunwarthsmühle\, Friedhofstraße 5\, Sulzbach\, 63834\, Deutschland
CATEGORIES:Auschuss
END:VEVENT
BEGIN:VEVENT
DTSTART;TZID=Europe/Berlin:20210806T194500
DTEND;TZID=Europe/Berlin:20210806T220000
DTSTAMP:20260425T160115
CREATED:20210622T052334Z
LAST-MODIFIED:20210622T052411Z
UID:4991-1628279100-1628287200@docker.mv-sulzbach.de
SUMMARY:Probe Blasorchester
DESCRIPTION:
URL:https://docker.mv-sulzbach.de/event/probe-blasorchester-217/
LOCATION:Braunwarthsmühle\, Friedhofstraße 5\, Sulzbach\, 63834\, Deutschland
CATEGORIES:Probe
END:VEVENT
BEGIN:VEVENT
DTSTART;TZID=Europe/Berlin:20210813T194500
DTEND;TZID=Europe/Berlin:20210813T220000
DTSTAMP:20260425T160115
CREATED:20210622T052351Z
LAST-MODIFIED:20210622T052351Z
UID:4993-1628883900-1628892000@docker.mv-sulzbach.de
SUMMARY:Probe Blasorchester
DESCRIPTION:
URL:https://docker.mv-sulzbach.de/event/probe-blasorchester-218/
LOCATION:Braunwarthsmühle\, Friedhofstraße 5\, Sulzbach\, 63834\, Deutschland
CATEGORIES:Probe
END:VEVENT
BEGIN:VEVENT
DTSTART;TZID=Europe/Berlin:20210815T110000
DTEND;TZID=Europe/Berlin:20210815T120000
DTSTAMP:20260425T160115
CREATED:20210714T172857Z
LAST-MODIFIED:20210714T172857Z
UID:5037-1629025200-1629028800@docker.mv-sulzbach.de
SUMMARY:Standkonzert zu "Kunst im Park"
DESCRIPTION:
URL:https://docker.mv-sulzbach.de/event/standkonzert-zu-kunst-im-park/
LOCATION:Place d`Urrugne
CATEGORIES:Aufritt
END:VEVENT
BEGIN:VEVENT
DTSTART;TZID=Europe/Berlin:20210820T194500
DTEND;TZID=Europe/Berlin:20210820T220000
DTSTAMP:20260425T160115
CREATED:20210622T052422Z
LAST-MODIFIED:20210622T052422Z
UID:4995-1629488700-1629496800@docker.mv-sulzbach.de
SUMMARY:Probe Blasorchester
DESCRIPTION:
URL:https://docker.mv-sulzbach.de/event/probe-blasorchester-219/
LOCATION:Braunwarthsmühle\, Friedhofstraße 5\, Sulzbach\, 63834\, Deutschland
CATEGORIES:Probe
END:VEVENT
BEGIN:VEVENT
DTSTART;TZID=Europe/Berlin:20210827T194500
DTEND;TZID=Europe/Berlin:20210827T220000
DTSTAMP:20260425T160115
CREATED:20210622T052439Z
LAST-MODIFIED:20210622T052439Z
UID:4997-1630093500-1630101600@docker.mv-sulzbach.de
SUMMARY:Probe Blasorchester
DESCRIPTION:
URL:https://docker.mv-sulzbach.de/event/probe-blasorchester-220/
LOCATION:Braunwarthsmühle\, Friedhofstraße 5\, Sulzbach\, 63834\, Deutschland
CATEGORIES:Probe
END:VEVENT
BEGIN:VEVENT
DTSTART;TZID=Europe/Berlin:20210828T170000
DTEND;TZID=Europe/Berlin:20210828T180000
DTSTAMP:20260425T160115
CREATED:20210813T153618Z
LAST-MODIFIED:20210813T153840Z
UID:5052-1630170000-1630173600@docker.mv-sulzbach.de
SUMMARY:Ständchen
DESCRIPTION:Hubert Prentner\, 70 \nTraudel Prentner\, 80
URL:https://docker.mv-sulzbach.de/event/staendchen-19/
LOCATION:Schullandheim Hobbach
CATEGORIES:Ständchen
END:VEVENT
END:VCALENDAR