BEGIN:VCALENDAR
VERSION:2.0
PRODID:-//Musikverein Edelweiß - ECPv6.15.17//NONSGML v1.0//EN
CALSCALE:GREGORIAN
METHOD:PUBLISH
X-WR-CALNAME:Musikverein Edelweiß
X-ORIGINAL-URL:https://docker.mv-sulzbach.de
X-WR-CALDESC:Veranstaltungen für Musikverein Edelweiß
REFRESH-INTERVAL;VALUE=DURATION:PT1H
X-Robots-Tag:noindex
X-PUBLISHED-TTL:PT1H
BEGIN:VTIMEZONE
TZID:Europe/Berlin
BEGIN:DAYLIGHT
TZOFFSETFROM:+0100
TZOFFSETTO:+0200
TZNAME:CEST
DTSTART:20210328T010000
END:DAYLIGHT
BEGIN:STANDARD
TZOFFSETFROM:+0200
TZOFFSETTO:+0100
TZNAME:CET
DTSTART:20211031T010000
END:STANDARD
BEGIN:DAYLIGHT
TZOFFSETFROM:+0100
TZOFFSETTO:+0200
TZNAME:CEST
DTSTART:20220327T010000
END:DAYLIGHT
BEGIN:STANDARD
TZOFFSETFROM:+0200
TZOFFSETTO:+0100
TZNAME:CET
DTSTART:20221030T010000
END:STANDARD
BEGIN:DAYLIGHT
TZOFFSETFROM:+0100
TZOFFSETTO:+0200
TZNAME:CEST
DTSTART:20230326T010000
END:DAYLIGHT
BEGIN:STANDARD
TZOFFSETFROM:+0200
TZOFFSETTO:+0100
TZNAME:CET
DTSTART:20231029T010000
END:STANDARD
END:VTIMEZONE
BEGIN:VEVENT
DTSTART;TZID=Europe/Berlin:20220204T194500
DTEND;TZID=Europe/Berlin:20220204T220000
DTSTAMP:20260425T041423
CREATED:20211112T075418Z
LAST-MODIFIED:20211112T075418Z
UID:5236-1644003900-1644012000@docker.mv-sulzbach.de
SUMMARY:Probe Blasorchester
DESCRIPTION:
URL:https://docker.mv-sulzbach.de/event/probe-blasorchester-241/
LOCATION:Braunwarthsmühle\, Friedhofstraße 5\, Sulzbach\, 63834\, Deutschland
CATEGORIES:Probe
END:VEVENT
BEGIN:VEVENT
DTSTART;TZID=Europe/Berlin:20220207T194500
DTEND;TZID=Europe/Berlin:20220207T210000
DTSTAMP:20260425T041423
CREATED:20220110T194343Z
LAST-MODIFIED:20220110T194343Z
UID:5305-1644263100-1644267600@docker.mv-sulzbach.de
SUMMARY:Ausschusssitzung
DESCRIPTION:
URL:https://docker.mv-sulzbach.de/event/ausschusssitzung-57/
CATEGORIES:Auschuss
END:VEVENT
BEGIN:VEVENT
DTSTART;TZID=Europe/Berlin:20220211T194500
DTEND;TZID=Europe/Berlin:20220211T220000
DTSTAMP:20260425T041423
CREATED:20211112T075450Z
LAST-MODIFIED:20211112T075450Z
UID:5238-1644608700-1644616800@docker.mv-sulzbach.de
SUMMARY:Probe Blasorchester
DESCRIPTION:
URL:https://docker.mv-sulzbach.de/event/probe-blasorchester-242/
LOCATION:Braunwarthsmühle\, Friedhofstraße 5\, Sulzbach\, 63834\, Deutschland
CATEGORIES:Probe
END:VEVENT
BEGIN:VEVENT
DTSTART;TZID=Europe/Berlin:20220218T194500
DTEND;TZID=Europe/Berlin:20220218T220000
DTSTAMP:20260425T041423
CREATED:20211112T075600Z
LAST-MODIFIED:20211112T075600Z
UID:5240-1645213500-1645221600@docker.mv-sulzbach.de
SUMMARY:Probe Blasorchester
DESCRIPTION:
URL:https://docker.mv-sulzbach.de/event/probe-blasorchester-243/
LOCATION:Braunwarthsmühle\, Friedhofstraße 5\, Sulzbach\, 63834\, Deutschland
CATEGORIES:Probe
END:VEVENT
BEGIN:VEVENT
DTSTART;TZID=Europe/Berlin:20220225T140000
DTEND;TZID=Europe/Berlin:20220225T150000
DTSTAMP:20260425T041423
CREATED:20220222T160711Z
LAST-MODIFIED:20220222T160711Z
UID:5328-1645797600-1645801200@docker.mv-sulzbach.de
SUMMARY:Beerdigung unseres Mitgliedes Dietmar Malcher
DESCRIPTION:
URL:https://docker.mv-sulzbach.de/event/beerdigung-unseres-mitgliedes-dietmar-malcher/
LOCATION:Friedhof
CATEGORIES:Aufritt
END:VEVENT
BEGIN:VEVENT
DTSTART;TZID=Europe/Berlin:20220225T194500
DTEND;TZID=Europe/Berlin:20220225T220000
DTSTAMP:20260425T041423
CREATED:20211112T075621Z
LAST-MODIFIED:20211112T075621Z
UID:5242-1645818300-1645826400@docker.mv-sulzbach.de
SUMMARY:Probe Blasorchester
DESCRIPTION:
URL:https://docker.mv-sulzbach.de/event/probe-blasorchester-244/
LOCATION:Braunwarthsmühle\, Friedhofstraße 5\, Sulzbach\, 63834\, Deutschland
CATEGORIES:Probe
END:VEVENT
END:VCALENDAR