BEGIN:VCALENDAR
VERSION:2.0
PRODID:-//Musikverein Edelweiß - ECPv6.15.17//NONSGML v1.0//EN
CALSCALE:GREGORIAN
METHOD:PUBLISH
X-ORIGINAL-URL:https://docker.mv-sulzbach.de
X-WR-CALDESC:Veranstaltungen für Musikverein Edelweiß
REFRESH-INTERVAL;VALUE=DURATION:PT1H
X-Robots-Tag:noindex
X-PUBLISHED-TTL:PT1H
BEGIN:VTIMEZONE
TZID:Europe/Berlin
BEGIN:DAYLIGHT
TZOFFSETFROM:+0100
TZOFFSETTO:+0200
TZNAME:CEST
DTSTART:20210328T010000
END:DAYLIGHT
BEGIN:STANDARD
TZOFFSETFROM:+0200
TZOFFSETTO:+0100
TZNAME:CET
DTSTART:20211031T010000
END:STANDARD
BEGIN:DAYLIGHT
TZOFFSETFROM:+0100
TZOFFSETTO:+0200
TZNAME:CEST
DTSTART:20220327T010000
END:DAYLIGHT
BEGIN:STANDARD
TZOFFSETFROM:+0200
TZOFFSETTO:+0100
TZNAME:CET
DTSTART:20221030T010000
END:STANDARD
BEGIN:DAYLIGHT
TZOFFSETFROM:+0100
TZOFFSETTO:+0200
TZNAME:CEST
DTSTART:20230326T010000
END:DAYLIGHT
BEGIN:STANDARD
TZOFFSETFROM:+0200
TZOFFSETTO:+0100
TZNAME:CET
DTSTART:20231029T010000
END:STANDARD
END:VTIMEZONE
BEGIN:VEVENT
DTSTART;TZID=Europe/Berlin:20220502T080000
DTEND;TZID=Europe/Berlin:20220502T170000
DTSTAMP:20260424T224209
CREATED:20220411T202936Z
LAST-MODIFIED:20220411T202936Z
UID:5422-1651478400-1651510800@docker.mv-sulzbach.de
SUMMARY:Ausschusssitzung
DESCRIPTION:
URL:https://docker.mv-sulzbach.de/event/ausschusssitzung-60/
LOCATION:Braunwarthsmühle\, Friedhofstraße 5\, Sulzbach\, 63834\, Deutschland
CATEGORIES:Auschuss
END:VEVENT
BEGIN:VEVENT
DTSTART;TZID=Europe/Berlin:20220506T194500
DTEND;TZID=Europe/Berlin:20220506T214500
DTSTAMP:20260424T224209
CREATED:20220411T151643Z
LAST-MODIFIED:20220411T151643Z
UID:5394-1651866300-1651873500@docker.mv-sulzbach.de
SUMMARY:Probe Blasorchester
DESCRIPTION:
URL:https://docker.mv-sulzbach.de/event/probe-blasorchester-252/
LOCATION:Braunwarthsmühle\, Friedhofstraße 5\, Sulzbach\, 63834\, Deutschland
CATEGORIES:Probe
END:VEVENT
BEGIN:VEVENT
DTSTART;TZID=Europe/Berlin:20220513T170000
DTEND;TZID=Europe/Berlin:20220515T120000
DTSTAMP:20260424T224209
CREATED:20211004T053808Z
LAST-MODIFIED:20211004T053808Z
UID:5196-1652461200-1652616000@docker.mv-sulzbach.de
SUMMARY:Probenwochenende Jugendblasorchester
DESCRIPTION:
URL:https://docker.mv-sulzbach.de/event/probenwochenende-jugendblasorchester/
LOCATION:Schullandheim Hobbach
CATEGORIES:Jugendprobe
END:VEVENT
BEGIN:VEVENT
DTSTART;TZID=Europe/Berlin:20220513T194500
DTEND;TZID=Europe/Berlin:20220513T214500
DTSTAMP:20260424T224209
CREATED:20220411T151659Z
LAST-MODIFIED:20220411T151659Z
UID:5396-1652471100-1652478300@docker.mv-sulzbach.de
SUMMARY:Probe Blasorchester
DESCRIPTION:
URL:https://docker.mv-sulzbach.de/event/probe-blasorchester-253/
LOCATION:Braunwarthsmühle\, Friedhofstraße 5\, Sulzbach\, 63834\, Deutschland
CATEGORIES:Probe
END:VEVENT
BEGIN:VEVENT
DTSTART;TZID=Europe/Berlin:20220514T100000
DTEND;TZID=Europe/Berlin:20220514T200000
DTSTAMP:20260424T224209
CREATED:20220504T150017Z
LAST-MODIFIED:20220504T150017Z
UID:5438-1652522400-1652558400@docker.mv-sulzbach.de
SUMMARY:Probentag Schülerorchester
DESCRIPTION:
URL:https://docker.mv-sulzbach.de/event/probentag-schuelerorchester/
LOCATION:Braunwarthsmühle\, Friedhofstraße 5\, Sulzbach\, 63834\, Deutschland
CATEGORIES:Jugendprobe
END:VEVENT
BEGIN:VEVENT
DTSTART;TZID=Europe/Berlin:20220515T110000
DTEND;TZID=Europe/Berlin:20220515T113000
DTSTAMP:20260424T224209
CREATED:20220505T144811Z
LAST-MODIFIED:20220508T082958Z
UID:5440-1652612400-1652614200@docker.mv-sulzbach.de
SUMMARY:Ständchen
DESCRIPTION:Willi Kempf\, Diamantene Hochzeit
URL:https://docker.mv-sulzbach.de/event/staendchen-38/
LOCATION:Kirchplatz
CATEGORIES:Ständchen
END:VEVENT
BEGIN:VEVENT
DTSTART;TZID=Europe/Berlin:20220520T194500
DTEND;TZID=Europe/Berlin:20220520T214500
DTSTAMP:20260424T224209
CREATED:20220411T151714Z
LAST-MODIFIED:20220411T151714Z
UID:5398-1653075900-1653083100@docker.mv-sulzbach.de
SUMMARY:Probe Blasorchester
DESCRIPTION:
URL:https://docker.mv-sulzbach.de/event/probe-blasorchester-254/
LOCATION:Braunwarthsmühle\, Friedhofstraße 5\, Sulzbach\, 63834\, Deutschland
CATEGORIES:Probe
END:VEVENT
BEGIN:VEVENT
DTSTART;TZID=Europe/Berlin:20220523T184500
DTEND;TZID=Europe/Berlin:20220523T184500
DTSTAMP:20260424T224209
CREATED:20220508T083049Z
LAST-MODIFIED:20220508T083049Z
UID:5442-1653331500-1653331500@docker.mv-sulzbach.de
SUMMARY:Ständchen
DESCRIPTION:Bernd Lang\, 70
URL:https://docker.mv-sulzbach.de/event/staendchen-41/
LOCATION:Braunwarthsmühle\, Friedhofstraße 5\, Sulzbach\, 63834\, Deutschland
CATEGORIES:Ständchen
END:VEVENT
BEGIN:VEVENT
DTSTART;TZID=Europe/Berlin:20220525T193000
DTEND;TZID=Europe/Berlin:20220525T203000
DTSTAMP:20260424T224209
CREATED:20211104T163844Z
LAST-MODIFIED:20220503T150307Z
UID:5220-1653507000-1653510600@docker.mv-sulzbach.de
SUMMARY:das Jugendkonzert
DESCRIPTION:
URL:https://docker.mv-sulzbach.de/event/das-jugendkonzert-5/
LOCATION:Braunwarthsmühle\, Friedhofstraße 5\, Sulzbach\, 63834\, Deutschland
CATEGORIES:Jugendauftritt
END:VEVENT
BEGIN:VEVENT
DTSTART;TZID=Europe/Berlin:20220526T090000
DTEND;TZID=Europe/Berlin:20220526T120000
DTSTAMP:20260424T224209
CREATED:20220511T173753Z
LAST-MODIFIED:20220511T173753Z
UID:5445-1653555600-1653566400@docker.mv-sulzbach.de
SUMMARY:Prozession zu Christi Himmelfahrt
DESCRIPTION:
URL:https://docker.mv-sulzbach.de/event/prozession-zu-christi-himmelfahrt-2/
LOCATION:Kirchplatz
CATEGORIES:Kirchlich
END:VEVENT
BEGIN:VEVENT
DTSTART;TZID=Europe/Berlin:20220527T194500
DTEND;TZID=Europe/Berlin:20220527T214500
DTSTAMP:20260424T224209
CREATED:20220411T151727Z
LAST-MODIFIED:20220411T151727Z
UID:5400-1653680700-1653687900@docker.mv-sulzbach.de
SUMMARY:Probe Blasorchester
DESCRIPTION:
URL:https://docker.mv-sulzbach.de/event/probe-blasorchester-255/
LOCATION:Braunwarthsmühle\, Friedhofstraße 5\, Sulzbach\, 63834\, Deutschland
CATEGORIES:Probe
END:VEVENT
END:VCALENDAR