BEGIN:VCALENDAR
VERSION:2.0
PRODID:-//Musikverein Edelweiß - ECPv6.15.17//NONSGML v1.0//EN
CALSCALE:GREGORIAN
METHOD:PUBLISH
X-WR-CALNAME:Musikverein Edelweiß
X-ORIGINAL-URL:https://docker.mv-sulzbach.de
X-WR-CALDESC:Veranstaltungen für Musikverein Edelweiß
REFRESH-INTERVAL;VALUE=DURATION:PT1H
X-Robots-Tag:noindex
X-PUBLISHED-TTL:PT1H
BEGIN:VTIMEZONE
TZID:Europe/Berlin
BEGIN:DAYLIGHT
TZOFFSETFROM:+0100
TZOFFSETTO:+0200
TZNAME:CEST
DTSTART:20210328T010000
END:DAYLIGHT
BEGIN:STANDARD
TZOFFSETFROM:+0200
TZOFFSETTO:+0100
TZNAME:CET
DTSTART:20211031T010000
END:STANDARD
BEGIN:DAYLIGHT
TZOFFSETFROM:+0100
TZOFFSETTO:+0200
TZNAME:CEST
DTSTART:20220327T010000
END:DAYLIGHT
BEGIN:STANDARD
TZOFFSETFROM:+0200
TZOFFSETTO:+0100
TZNAME:CET
DTSTART:20221030T010000
END:STANDARD
BEGIN:DAYLIGHT
TZOFFSETFROM:+0100
TZOFFSETTO:+0200
TZNAME:CEST
DTSTART:20230326T010000
END:DAYLIGHT
BEGIN:STANDARD
TZOFFSETFROM:+0200
TZOFFSETTO:+0100
TZNAME:CET
DTSTART:20231029T010000
END:STANDARD
END:VTIMEZONE
BEGIN:VEVENT
DTSTART;TZID=Europe/Berlin:20220802T193000
DTEND;TZID=Europe/Berlin:20220802T213000
DTSTAMP:20260424T164652
CREATED:20220706T162608Z
LAST-MODIFIED:20220706T162608Z
UID:5507-1659468600-1659475800@docker.mv-sulzbach.de
SUMMARY:Ausschusssitzung
DESCRIPTION:
URL:https://docker.mv-sulzbach.de/event/ausschusssitzung-62/
LOCATION:Braunwarthsmühle\, Friedhofstraße 5\, Sulzbach\, 63834\, Deutschland
CATEGORIES:Auschuss
END:VEVENT
BEGIN:VEVENT
DTSTART;TZID=Europe/Berlin:20220805T194500
DTEND;TZID=Europe/Berlin:20220805T214500
DTSTAMP:20260424T164652
CREATED:20220621T163950Z
LAST-MODIFIED:20220621T163950Z
UID:5465-1659728700-1659735900@docker.mv-sulzbach.de
SUMMARY:Probe Blasorchester
DESCRIPTION:
URL:https://docker.mv-sulzbach.de/event/probe-blasorchester-263/
LOCATION:Braunwarthsmühle\, Friedhofstraße 5\, Sulzbach\, 63834\, Deutschland
CATEGORIES:Probe
END:VEVENT
BEGIN:VEVENT
DTSTART;TZID=Europe/Berlin:20220806T170000
DTEND;TZID=Europe/Berlin:20220806T170000
DTSTAMP:20260424T164652
CREATED:20220718T154558Z
LAST-MODIFIED:20220718T154558Z
UID:5511-1659805200-1659805200@docker.mv-sulzbach.de
SUMMARY:Ständchen
DESCRIPTION:Karina Woller\, 65
URL:https://docker.mv-sulzbach.de/event/staendchen-50/
LOCATION:Braunwarthsmühle\, Friedhofstraße 5\, Sulzbach\, 63834\, Deutschland
CATEGORIES:Ständchen
END:VEVENT
BEGIN:VEVENT
DTSTART;TZID=Europe/Berlin:20220808T193000
DTEND;TZID=Europe/Berlin:20220808T213000
DTSTAMP:20260424T164652
CREATED:20220728T142322Z
LAST-MODIFIED:20220728T142322Z
UID:5519-1659987000-1659994200@docker.mv-sulzbach.de
SUMMARY:Festausschusssitzung
DESCRIPTION:
URL:https://docker.mv-sulzbach.de/event/festausschusssitzung-2/
LOCATION:Braunwarthsmühle\, Friedhofstraße 5\, Sulzbach\, 63834\, Deutschland
CATEGORIES:Auschuss
END:VEVENT
BEGIN:VEVENT
DTSTART;TZID=Europe/Berlin:20220812T183000
DTEND;TZID=Europe/Berlin:20220812T203000
DTSTAMP:20260424T164652
CREATED:20220720T190259Z
LAST-MODIFIED:20220720T190259Z
UID:5513-1660329000-1660336200@docker.mv-sulzbach.de
SUMMARY:Music is Life - Konzert des Orchesters der Unterfränkischen Bläserwoche 2022
DESCRIPTION:
URL:https://docker.mv-sulzbach.de/event/music-is-life-konzert-des-orchesters-der-unterfraenkischen-blaeserwoche-2022/
LOCATION:Kirchplatz
CATEGORIES:Sonstiges
END:VEVENT
BEGIN:VEVENT
DTSTART;TZID=Europe/Berlin:20220812T194500
DTEND;TZID=Europe/Berlin:20220812T214500
DTSTAMP:20260424T164652
CREATED:20220621T164007Z
LAST-MODIFIED:20220807T160858Z
UID:5467-1660333500-1660340700@docker.mv-sulzbach.de
SUMMARY:Probe Blasorchester -ENTFÄLLT-
DESCRIPTION:
URL:https://docker.mv-sulzbach.de/event/probe-blasorchester-266/
LOCATION:Braunwarthsmühle\, Friedhofstraße 5\, Sulzbach\, 63834\, Deutschland
CATEGORIES:Sonstiges
END:VEVENT
BEGIN:VEVENT
DTSTART;TZID=Europe/Berlin:20220815T100000
DTEND;TZID=Europe/Berlin:20220815T110000
DTSTAMP:20260424T164652
CREATED:20220807T160825Z
LAST-MODIFIED:20220807T160825Z
UID:5525-1660557600-1660561200@docker.mv-sulzbach.de
SUMMARY:Gottesdienst zu Mariä Himmelfahrt
DESCRIPTION:
URL:https://docker.mv-sulzbach.de/event/gottesdienst-zu-mariae-himmelfahrt-2/
LOCATION:Kapelle an der Pfingstweide
CATEGORIES:Kirchlich
END:VEVENT
BEGIN:VEVENT
DTSTART;TZID=Europe/Berlin:20220819T194500
DTEND;TZID=Europe/Berlin:20220819T214500
DTSTAMP:20260424T164652
CREATED:20220621T164023Z
LAST-MODIFIED:20220730T094618Z
UID:5469-1660938300-1660945500@docker.mv-sulzbach.de
SUMMARY:Probe Blasorchester -ENTFÄLLT-
DESCRIPTION:
URL:https://docker.mv-sulzbach.de/event/probe-blasorchester-267/
LOCATION:Braunwarthsmühle\, Friedhofstraße 5\, Sulzbach\, 63834\, Deutschland
CATEGORIES:Sonstiges
END:VEVENT
BEGIN:VEVENT
DTSTART;TZID=Europe/Berlin:20220826T194500
DTEND;TZID=Europe/Berlin:20220826T214500
DTSTAMP:20260424T164652
CREATED:20220621T164038Z
LAST-MODIFIED:20220730T094652Z
UID:5471-1661543100-1661550300@docker.mv-sulzbach.de
SUMMARY:Probe Blasorchester -ENTFÄLLT-
DESCRIPTION:
URL:https://docker.mv-sulzbach.de/event/probe-blasorchester-268/
LOCATION:Braunwarthsmühle\, Friedhofstraße 5\, Sulzbach\, 63834\, Deutschland
CATEGORIES:Sonstiges
END:VEVENT
END:VCALENDAR