BEGIN:VCALENDAR
VERSION:2.0
PRODID:-//Musikverein Edelweiß - ECPv6.15.17//NONSGML v1.0//EN
CALSCALE:GREGORIAN
METHOD:PUBLISH
X-ORIGINAL-URL:https://docker.mv-sulzbach.de
X-WR-CALDESC:Veranstaltungen für Musikverein Edelweiß
REFRESH-INTERVAL;VALUE=DURATION:PT1H
X-Robots-Tag:noindex
X-PUBLISHED-TTL:PT1H
BEGIN:VTIMEZONE
TZID:Europe/Berlin
BEGIN:DAYLIGHT
TZOFFSETFROM:+0100
TZOFFSETTO:+0200
TZNAME:CEST
DTSTART:20210328T010000
END:DAYLIGHT
BEGIN:STANDARD
TZOFFSETFROM:+0200
TZOFFSETTO:+0100
TZNAME:CET
DTSTART:20211031T010000
END:STANDARD
BEGIN:DAYLIGHT
TZOFFSETFROM:+0100
TZOFFSETTO:+0200
TZNAME:CEST
DTSTART:20220327T010000
END:DAYLIGHT
BEGIN:STANDARD
TZOFFSETFROM:+0200
TZOFFSETTO:+0100
TZNAME:CET
DTSTART:20221030T010000
END:STANDARD
BEGIN:DAYLIGHT
TZOFFSETFROM:+0100
TZOFFSETTO:+0200
TZNAME:CEST
DTSTART:20230326T010000
END:DAYLIGHT
BEGIN:STANDARD
TZOFFSETFROM:+0200
TZOFFSETTO:+0100
TZNAME:CET
DTSTART:20231029T010000
END:STANDARD
END:VTIMEZONE
BEGIN:VEVENT
DTSTART;TZID=Europe/Berlin:20220902T194500
DTEND;TZID=Europe/Berlin:20220902T214500
DTSTAMP:20260424T144110
CREATED:20220621T164056Z
LAST-MODIFIED:20220730T094729Z
UID:5473-1662147900-1662155100@docker.mv-sulzbach.de
SUMMARY:Probe Blasorchester -ENTFÄLLT-
DESCRIPTION:
URL:https://docker.mv-sulzbach.de/event/probe-blasorchester-269/
LOCATION:Braunwarthsmühle\, Friedhofstraße 5\, Sulzbach\, 63834\, Deutschland
CATEGORIES:Sonstiges
END:VEVENT
BEGIN:VEVENT
DTSTART;TZID=Europe/Berlin:20220909T194500
DTEND;TZID=Europe/Berlin:20220909T214500
DTSTAMP:20260424T144110
CREATED:20220621T164112Z
LAST-MODIFIED:20220730T094807Z
UID:5475-1662752700-1662759900@docker.mv-sulzbach.de
SUMMARY:Probe Blasorchester -ENTFÄLLT-
DESCRIPTION:
URL:https://docker.mv-sulzbach.de/event/probe-blasorchester-270/
LOCATION:Braunwarthsmühle\, Friedhofstraße 5\, Sulzbach\, 63834\, Deutschland
CATEGORIES:Sonstiges
END:VEVENT
BEGIN:VEVENT
DTSTART;TZID=Europe/Berlin:20220911T113000
DTEND;TZID=Europe/Berlin:20220911T113000
DTSTAMP:20260424T144110
CREATED:20220901T055240Z
LAST-MODIFIED:20220901T055240Z
UID:5590-1662895800-1662895800@docker.mv-sulzbach.de
SUMMARY:Ständchen
DESCRIPTION:Richard Ziemlich\, Gnadenhochzeit
URL:https://docker.mv-sulzbach.de/event/staendchen-51/
LOCATION:Sportheim „Mainblick“\, Am Sportplatz\, Sulzbach\, 63834\, Deutschland
CATEGORIES:Ständchen
END:VEVENT
BEGIN:VEVENT
DTSTART;TZID=Europe/Berlin:20220913T193000
DTEND;TZID=Europe/Berlin:20220913T213000
DTSTAMP:20260424T144110
CREATED:20220808T211840Z
LAST-MODIFIED:20220808T211840Z
UID:5535-1663097400-1663104600@docker.mv-sulzbach.de
SUMMARY:Festauschusssitzung
DESCRIPTION:
URL:https://docker.mv-sulzbach.de/event/festauschusssitzung/
LOCATION:Braunwarthsmühle\, Friedhofstraße 5\, Sulzbach\, 63834\, Deutschland
CATEGORIES:Auschuss
END:VEVENT
BEGIN:VEVENT
DTSTART;TZID=Europe/Berlin:20220916T194500
DTEND;TZID=Europe/Berlin:20220916T214500
DTSTAMP:20260424T144110
CREATED:20220621T164131Z
LAST-MODIFIED:20220621T164131Z
UID:5477-1663357500-1663364700@docker.mv-sulzbach.de
SUMMARY:Probe Blasorchester
DESCRIPTION:
URL:https://docker.mv-sulzbach.de/event/probe-blasorchester-271/
LOCATION:Braunwarthsmühle\, Friedhofstraße 5\, Sulzbach\, 63834\, Deutschland
CATEGORIES:Probe
END:VEVENT
BEGIN:VEVENT
DTSTART;TZID=Europe/Berlin:20220917T173000
DTEND;TZID=Europe/Berlin:20220917T173000
DTSTAMP:20260424T144110
CREATED:20220911T102018Z
LAST-MODIFIED:20220911T102018Z
UID:5596-1663435800-1663435800@docker.mv-sulzbach.de
SUMMARY:Ständchen
DESCRIPTION:Norbert Elbert\, 75
URL:https://docker.mv-sulzbach.de/event/staendchen-67/
LOCATION:Braunwarthsmühle\, Friedhofstraße 5\, Sulzbach\, 63834\, Deutschland
CATEGORIES:Ständchen
END:VEVENT
BEGIN:VEVENT
DTSTART;TZID=Europe/Berlin:20220918T110000
DTEND;TZID=Europe/Berlin:20220918T130000
DTSTAMP:20260424T144110
CREATED:20220720T190332Z
LAST-MODIFIED:20220917T085718Z
UID:5515-1663498800-1663506000@docker.mv-sulzbach.de
SUMMARY:Frühschoppen - leider abgesagt
DESCRIPTION:
URL:https://docker.mv-sulzbach.de/event/fruehschoppen-im-cafe-karacho/
CATEGORIES:Sonstiges
END:VEVENT
BEGIN:VEVENT
DTSTART;TZID=Europe/Berlin:20220920T193000
DTEND;TZID=Europe/Berlin:20220920T213000
DTSTAMP:20260424T144110
CREATED:20220808T074722Z
LAST-MODIFIED:20220808T211753Z
UID:5528-1663702200-1663709400@docker.mv-sulzbach.de
SUMMARY:Ausschusssitzung
DESCRIPTION:
URL:https://docker.mv-sulzbach.de/event/ausschusssitzung-63/
LOCATION:Braunwarthsmühle\, Friedhofstraße 5\, Sulzbach\, 63834\, Deutschland
CATEGORIES:Auschuss
END:VEVENT
BEGIN:VEVENT
DTSTART;TZID=Europe/Berlin:20220923T194500
DTEND;TZID=Europe/Berlin:20220923T214500
DTSTAMP:20260424T144110
CREATED:20220621T164146Z
LAST-MODIFIED:20220621T164146Z
UID:5479-1663962300-1663969500@docker.mv-sulzbach.de
SUMMARY:Probe Blasorchester
DESCRIPTION:
URL:https://docker.mv-sulzbach.de/event/probe-blasorchester-272/
LOCATION:Braunwarthsmühle\, Friedhofstraße 5\, Sulzbach\, 63834\, Deutschland
CATEGORIES:Probe
END:VEVENT
BEGIN:VEVENT
DTSTART;TZID=Europe/Berlin:20220925T113000
DTEND;TZID=Europe/Berlin:20220925T113000
DTSTAMP:20260424T144110
CREATED:20220901T055317Z
LAST-MODIFIED:20220911T102057Z
UID:5592-1664105400-1664105400@docker.mv-sulzbach.de
SUMMARY:Ständchen
DESCRIPTION:Ellen Sommer\, 60
URL:https://docker.mv-sulzbach.de/event/staendchen-66/
LOCATION:Sportheim „Mainblick“\, Am Sportplatz\, Sulzbach\, 63834\, Deutschland
CATEGORIES:Ständchen
END:VEVENT
BEGIN:VEVENT
DTSTART;TZID=Europe/Berlin:20220928T193000
DTEND;TZID=Europe/Berlin:20220928T213000
DTSTAMP:20260424T144110
CREATED:20220621T164159Z
LAST-MODIFIED:20220924T174457Z
UID:5481-1664393400-1664400600@docker.mv-sulzbach.de
SUMMARY:Probe Blasorchester
DESCRIPTION:
URL:https://docker.mv-sulzbach.de/event/probe-blasorchester-273/
LOCATION:Braunwarthsmühle\, Friedhofstraße 5\, Sulzbach\, 63834\, Deutschland
CATEGORIES:Probe
END:VEVENT
BEGIN:VEVENT
DTSTART;TZID=Europe/Berlin:20220930T200000
DTEND;TZID=Europe/Berlin:20220930T220000
DTSTAMP:20260424T144110
CREATED:20220924T174540Z
LAST-MODIFIED:20220924T174540Z
UID:5632-1664568000-1664575200@docker.mv-sulzbach.de
SUMMARY:Registerprobe Posaunen
DESCRIPTION:
URL:https://docker.mv-sulzbach.de/event/registerprobe-posaunen-4/
LOCATION:Braunwarthsmühle\, Friedhofstraße 5\, Sulzbach\, 63834\, Deutschland
CATEGORIES:Registerprobe
END:VEVENT
END:VCALENDAR