BEGIN:VCALENDAR
VERSION:2.0
PRODID:-//Musikverein Edelweiß - ECPv6.15.17//NONSGML v1.0//EN
CALSCALE:GREGORIAN
METHOD:PUBLISH
X-WR-CALNAME:Musikverein Edelweiß
X-ORIGINAL-URL:https://docker.mv-sulzbach.de
X-WR-CALDESC:Veranstaltungen für Musikverein Edelweiß
REFRESH-INTERVAL;VALUE=DURATION:PT1H
X-Robots-Tag:noindex
X-PUBLISHED-TTL:PT1H
BEGIN:VTIMEZONE
TZID:Europe/Berlin
BEGIN:DAYLIGHT
TZOFFSETFROM:+0100
TZOFFSETTO:+0200
TZNAME:CEST
DTSTART:20210328T010000
END:DAYLIGHT
BEGIN:STANDARD
TZOFFSETFROM:+0200
TZOFFSETTO:+0100
TZNAME:CET
DTSTART:20211031T010000
END:STANDARD
BEGIN:DAYLIGHT
TZOFFSETFROM:+0100
TZOFFSETTO:+0200
TZNAME:CEST
DTSTART:20220327T010000
END:DAYLIGHT
BEGIN:STANDARD
TZOFFSETFROM:+0200
TZOFFSETTO:+0100
TZNAME:CET
DTSTART:20221030T010000
END:STANDARD
BEGIN:DAYLIGHT
TZOFFSETFROM:+0100
TZOFFSETTO:+0200
TZNAME:CEST
DTSTART:20230326T010000
END:DAYLIGHT
BEGIN:STANDARD
TZOFFSETFROM:+0200
TZOFFSETTO:+0100
TZNAME:CET
DTSTART:20231029T010000
END:STANDARD
END:VTIMEZONE
BEGIN:VEVENT
DTSTART;TZID=Europe/Berlin:20221007T194500
DTEND;TZID=Europe/Berlin:20221007T214500
DTSTAMP:20260424T125209
CREATED:20220621T164216Z
LAST-MODIFIED:20220621T164216Z
UID:5483-1665171900-1665179100@docker.mv-sulzbach.de
SUMMARY:Probe Blasorchester
DESCRIPTION:
URL:https://docker.mv-sulzbach.de/event/probe-blasorchester-274/
LOCATION:Braunwarthsmühle\, Friedhofstraße 5\, Sulzbach\, 63834\, Deutschland
CATEGORIES:Probe
END:VEVENT
BEGIN:VEVENT
DTSTART;TZID=Europe/Berlin:20221014T194500
DTEND;TZID=Europe/Berlin:20221014T214500
DTSTAMP:20260424T125209
CREATED:20220621T164230Z
LAST-MODIFIED:20220621T164230Z
UID:5485-1665776700-1665783900@docker.mv-sulzbach.de
SUMMARY:Probe Blasorchester
DESCRIPTION:
URL:https://docker.mv-sulzbach.de/event/probe-blasorchester-275/
LOCATION:Braunwarthsmühle\, Friedhofstraße 5\, Sulzbach\, 63834\, Deutschland
CATEGORIES:Probe
END:VEVENT
BEGIN:VEVENT
DTSTART;TZID=Europe/Berlin:20221020T180000
DTEND;TZID=Europe/Berlin:20221020T190000
DTSTAMP:20260424T125209
CREATED:20221015T082218Z
LAST-MODIFIED:20221015T082218Z
UID:5643-1666288800-1666292400@docker.mv-sulzbach.de
SUMMARY:Ständchen
DESCRIPTION:Wendelin Kunkel
URL:https://docker.mv-sulzbach.de/event/staendchen-69/
LOCATION:Braunwarthsmühle\, Friedhofstraße 5\, Sulzbach\, 63834\, Deutschland
CATEGORIES:Ständchen
END:VEVENT
BEGIN:VEVENT
DTSTART;TZID=Europe/Berlin:20221021T194500
DTEND;TZID=Europe/Berlin:20221021T214500
DTSTAMP:20260424T125209
CREATED:20220621T164251Z
LAST-MODIFIED:20220621T164251Z
UID:5487-1666381500-1666388700@docker.mv-sulzbach.de
SUMMARY:Probe Blasorchester
DESCRIPTION:
URL:https://docker.mv-sulzbach.de/event/probe-blasorchester-276/
LOCATION:Braunwarthsmühle\, Friedhofstraße 5\, Sulzbach\, 63834\, Deutschland
CATEGORIES:Probe
END:VEVENT
BEGIN:VEVENT
DTSTART;TZID=Europe/Berlin:20221022T090000
DTEND;TZID=Europe/Berlin:20221022T160000
DTSTAMP:20260424T125209
CREATED:20220611T171239Z
LAST-MODIFIED:20220808T074814Z
UID:5458-1666429200-1666454400@docker.mv-sulzbach.de
SUMMARY:Probentag
DESCRIPTION:
URL:https://docker.mv-sulzbach.de/event/probentag/
LOCATION:Braunwarthsmühle\, Friedhofstraße 5\, Sulzbach\, 63834\, Deutschland
CATEGORIES:Probe,Sonderprobe
END:VEVENT
BEGIN:VEVENT
DTSTART;TZID=Europe/Berlin:20221024T194500
DTEND;TZID=Europe/Berlin:20221024T220000
DTSTAMP:20260424T125209
CREATED:20220920T191859Z
LAST-MODIFIED:20220920T191859Z
UID:5624-1666640700-1666648800@docker.mv-sulzbach.de
SUMMARY:Ausschusssitzung
DESCRIPTION:
URL:https://docker.mv-sulzbach.de/event/ausschusssitzung-64/
LOCATION:Braunwarthsmühle\, Friedhofstraße 5\, Sulzbach\, 63834\, Deutschland
CATEGORIES:Auschuss
END:VEVENT
BEGIN:VEVENT
DTSTART;TZID=Europe/Berlin:20221028T194500
DTEND;TZID=Europe/Berlin:20221028T214500
DTSTAMP:20260424T125209
CREATED:20220621T164315Z
LAST-MODIFIED:20220621T164315Z
UID:5489-1666986300-1666993500@docker.mv-sulzbach.de
SUMMARY:Probe Blasorchester
DESCRIPTION:
URL:https://docker.mv-sulzbach.de/event/probe-blasorchester-277/
LOCATION:Braunwarthsmühle\, Friedhofstraße 5\, Sulzbach\, 63834\, Deutschland
CATEGORIES:Probe
END:VEVENT
END:VCALENDAR