BEGIN:VCALENDAR
VERSION:2.0
PRODID:-//Musikverein Edelweiß - ECPv6.15.17//NONSGML v1.0//EN
CALSCALE:GREGORIAN
METHOD:PUBLISH
X-ORIGINAL-URL:https://docker.mv-sulzbach.de
X-WR-CALDESC:Veranstaltungen für Musikverein Edelweiß
REFRESH-INTERVAL;VALUE=DURATION:PT1H
X-Robots-Tag:noindex
X-PUBLISHED-TTL:PT1H
BEGIN:VTIMEZONE
TZID:Europe/Berlin
BEGIN:DAYLIGHT
TZOFFSETFROM:+0100
TZOFFSETTO:+0200
TZNAME:CEST
DTSTART:20220327T010000
END:DAYLIGHT
BEGIN:STANDARD
TZOFFSETFROM:+0200
TZOFFSETTO:+0100
TZNAME:CET
DTSTART:20221030T010000
END:STANDARD
BEGIN:DAYLIGHT
TZOFFSETFROM:+0100
TZOFFSETTO:+0200
TZNAME:CEST
DTSTART:20230326T010000
END:DAYLIGHT
BEGIN:STANDARD
TZOFFSETFROM:+0200
TZOFFSETTO:+0100
TZNAME:CET
DTSTART:20231029T010000
END:STANDARD
BEGIN:DAYLIGHT
TZOFFSETFROM:+0100
TZOFFSETTO:+0200
TZNAME:CEST
DTSTART:20240331T010000
END:DAYLIGHT
BEGIN:STANDARD
TZOFFSETFROM:+0200
TZOFFSETTO:+0100
TZNAME:CET
DTSTART:20241027T010000
END:STANDARD
END:VTIMEZONE
BEGIN:VEVENT
DTSTART;TZID=Europe/Berlin:20230105T140000
DTEND;TZID=Europe/Berlin:20230105T140000
DTSTAMP:20260424T074647
CREATED:20221229T165429Z
LAST-MODIFIED:20221229T165429Z
UID:5743-1672927200-1672927200@docker.mv-sulzbach.de
SUMMARY:Beerdigung unseres Mitgliedes Hilde Sommer
DESCRIPTION:
URL:https://docker.mv-sulzbach.de/event/beerdigung-unseres-mitgliedes-hilde-sommer/
LOCATION:Friedhof
CATEGORIES:Sonstiges
END:VEVENT
BEGIN:VEVENT
DTSTART;TZID=Europe/Berlin:20230105T194500
DTEND;TZID=Europe/Berlin:20230105T214500
DTSTAMP:20260424T074647
CREATED:20220920T191936Z
LAST-MODIFIED:20220920T191936Z
UID:5626-1672947900-1672955100@docker.mv-sulzbach.de
SUMMARY:Probe Blasorchester
DESCRIPTION:
URL:https://docker.mv-sulzbach.de/event/probe-blasorchester-96/
LOCATION:Braunwarthsmühle\, Friedhofstraße 5\, Sulzbach\, 63834\, Deutschland
CATEGORIES:Probe
END:VEVENT
BEGIN:VEVENT
DTSTART;VALUE=DATE:20230107
DTEND;VALUE=DATE:20230108
DTSTAMP:20260424T074647
CREATED:20221105T184527Z
LAST-MODIFIED:20221105T184527Z
UID:5657-1673049600-1673135999@docker.mv-sulzbach.de
SUMMARY:Winterwanderung
DESCRIPTION:
URL:https://docker.mv-sulzbach.de/event/winterwanderung-6/
CATEGORIES:Gemeinschaft
END:VEVENT
BEGIN:VEVENT
DTSTART;TZID=Europe/Berlin:20230108T114500
DTEND;TZID=Europe/Berlin:20230108T114500
DTSTAMP:20260424T074647
CREATED:20221231T100122Z
LAST-MODIFIED:20221231T100122Z
UID:5750-1673178300-1673178300@docker.mv-sulzbach.de
SUMMARY:Ständchen
DESCRIPTION:Christine Kolb\, 60
URL:https://docker.mv-sulzbach.de/event/staendchen-72/
LOCATION:Braunwarthsmühle\, Friedhofstraße 5\, Sulzbach\, 63834\, Deutschland
CATEGORIES:Ständchen
END:VEVENT
BEGIN:VEVENT
DTSTART;TZID=Europe/Berlin:20230109T193000
DTEND;TZID=Europe/Berlin:20230109T213000
DTSTAMP:20260424T074647
CREATED:20221226T175021Z
LAST-MODIFIED:20230110T175042Z
UID:5727-1673292600-1673299800@docker.mv-sulzbach.de
SUMMARY:Registerprobe Tuba
DESCRIPTION:
URL:https://docker.mv-sulzbach.de/event/registerprobe-tuba-2/
LOCATION:Braunwarthsmühle\, Friedhofstraße 5\, Sulzbach\, 63834\, Deutschland
CATEGORIES:Registerprobe
END:VEVENT
BEGIN:VEVENT
DTSTART;TZID=Europe/Berlin:20230110T193000
DTEND;TZID=Europe/Berlin:20230110T213000
DTSTAMP:20260424T074647
CREATED:20221228T175319Z
LAST-MODIFIED:20221228T175319Z
UID:5729-1673379000-1673386200@docker.mv-sulzbach.de
SUMMARY:Ausschusssitzung
DESCRIPTION:
URL:https://docker.mv-sulzbach.de/event/ausschusssitzung-66/
CATEGORIES:Auschuss
END:VEVENT
BEGIN:VEVENT
DTSTART;TZID=Europe/Berlin:20230113T194500
DTEND;TZID=Europe/Berlin:20230113T214500
DTSTAMP:20260424T074647
CREATED:20220816T070453Z
LAST-MODIFIED:20220816T070453Z
UID:5557-1673639100-1673646300@docker.mv-sulzbach.de
SUMMARY:Probe Blasorchester
DESCRIPTION:
URL:https://docker.mv-sulzbach.de/event/probe-blasorchester-287/
LOCATION:Braunwarthsmühle\, Friedhofstraße 5\, Sulzbach\, 63834\, Deutschland
CATEGORIES:Probe
END:VEVENT
BEGIN:VEVENT
DTSTART;TZID=Europe/Berlin:20230116T193000
DTEND;TZID=Europe/Berlin:20230116T213000
DTSTAMP:20260424T074647
CREATED:20221125T090239Z
LAST-MODIFIED:20221125T090239Z
UID:5693-1673897400-1673904600@docker.mv-sulzbach.de
SUMMARY:Festausschusssitzung
DESCRIPTION:
URL:https://docker.mv-sulzbach.de/event/festausschusssitzung-3/
LOCATION:Braunwarthsmühle\, Friedhofstraße 5\, Sulzbach\, 63834\, Deutschland
CATEGORIES:Auschuss
END:VEVENT
BEGIN:VEVENT
DTSTART;TZID=Europe/Berlin:20230120T194500
DTEND;TZID=Europe/Berlin:20230120T214500
DTSTAMP:20260424T074647
CREATED:20220816T070507Z
LAST-MODIFIED:20220816T070507Z
UID:5559-1674243900-1674251100@docker.mv-sulzbach.de
SUMMARY:Probe Blasorchester
DESCRIPTION:
URL:https://docker.mv-sulzbach.de/event/probe-blasorchester-288/
LOCATION:Braunwarthsmühle\, Friedhofstraße 5\, Sulzbach\, 63834\, Deutschland
CATEGORIES:Probe
END:VEVENT
BEGIN:VEVENT
DTSTART;VALUE=DATE:20230122
DTEND;VALUE=DATE:20230123
DTSTAMP:20260424T074647
CREATED:20220724T162737Z
LAST-MODIFIED:20220724T162737Z
UID:5517-1674345600-1674431999@docker.mv-sulzbach.de
SUMMARY:Sebastianusfeier des Schützenvereins Sulzbach
DESCRIPTION:
URL:https://docker.mv-sulzbach.de/event/sebastianusfeier-des-schuetzenvereins-sulzbach/
CATEGORIES:Aufritt
END:VEVENT
BEGIN:VEVENT
DTSTART;TZID=Europe/Berlin:20230127T194500
DTEND;TZID=Europe/Berlin:20230127T214500
DTSTAMP:20260424T074647
CREATED:20220816T070746Z
LAST-MODIFIED:20220816T070746Z
UID:5561-1674848700-1674855900@docker.mv-sulzbach.de
SUMMARY:Probe Blasorchester
DESCRIPTION:
URL:https://docker.mv-sulzbach.de/event/probe-blasorchester-289/
LOCATION:Braunwarthsmühle\, Friedhofstraße 5\, Sulzbach\, 63834\, Deutschland
CATEGORIES:Probe
END:VEVENT
END:VCALENDAR