BEGIN:VCALENDAR
VERSION:2.0
PRODID:-//Musikverein Edelweiß - ECPv6.15.17//NONSGML v1.0//EN
CALSCALE:GREGORIAN
METHOD:PUBLISH
X-ORIGINAL-URL:https://docker.mv-sulzbach.de
X-WR-CALDESC:Veranstaltungen für Musikverein Edelweiß
REFRESH-INTERVAL;VALUE=DURATION:PT1H
X-Robots-Tag:noindex
X-PUBLISHED-TTL:PT1H
BEGIN:VTIMEZONE
TZID:Europe/Berlin
BEGIN:DAYLIGHT
TZOFFSETFROM:+0100
TZOFFSETTO:+0200
TZNAME:CEST
DTSTART:20220327T010000
END:DAYLIGHT
BEGIN:STANDARD
TZOFFSETFROM:+0200
TZOFFSETTO:+0100
TZNAME:CET
DTSTART:20221030T010000
END:STANDARD
BEGIN:DAYLIGHT
TZOFFSETFROM:+0100
TZOFFSETTO:+0200
TZNAME:CEST
DTSTART:20230326T010000
END:DAYLIGHT
BEGIN:STANDARD
TZOFFSETFROM:+0200
TZOFFSETTO:+0100
TZNAME:CET
DTSTART:20231029T010000
END:STANDARD
BEGIN:DAYLIGHT
TZOFFSETFROM:+0100
TZOFFSETTO:+0200
TZNAME:CEST
DTSTART:20240331T010000
END:DAYLIGHT
BEGIN:STANDARD
TZOFFSETFROM:+0200
TZOFFSETTO:+0100
TZNAME:CET
DTSTART:20241027T010000
END:STANDARD
END:VTIMEZONE
BEGIN:VEVENT
DTSTART;TZID=Europe/Berlin:20230303T194500
DTEND;TZID=Europe/Berlin:20230303T214500
DTSTAMP:20260424T035903
CREATED:20220816T070856Z
LAST-MODIFIED:20220816T070856Z
UID:5571-1677872700-1677879900@docker.mv-sulzbach.de
SUMMARY:Probe Blasorchester
DESCRIPTION:
URL:https://docker.mv-sulzbach.de/event/probe-blasorchester-294/
LOCATION:Braunwarthsmühle\, Friedhofstraße 5\, Sulzbach\, 63834\, Deutschland
CATEGORIES:Probe
END:VEVENT
BEGIN:VEVENT
DTSTART;TZID=Europe/Berlin:20230304T193000
DTEND;TZID=Europe/Berlin:20230304T213000
DTSTAMP:20260424T035903
CREATED:20220921T144519Z
LAST-MODIFIED:20220921T144519Z
UID:5629-1677958200-1677965400@docker.mv-sulzbach.de
SUMMARY:Jahreshauptversammlung
DESCRIPTION:
URL:https://docker.mv-sulzbach.de/event/jahreshauptversammlung-7/
LOCATION:Braunwarthsmühle\, Friedhofstraße 5\, Sulzbach\, 63834\, Deutschland
CATEGORIES:Sonstiges
END:VEVENT
BEGIN:VEVENT
DTSTART;TZID=Europe/Berlin:20230305T113000
DTEND;TZID=Europe/Berlin:20230305T123000
DTSTAMP:20260424T035903
CREATED:20230122T160021Z
LAST-MODIFIED:20230122T160021Z
UID:5805-1678015800-1678019400@docker.mv-sulzbach.de
SUMMARY:Ständchen
DESCRIPTION:Dietmar Rehse\, 80
URL:https://docker.mv-sulzbach.de/event/staendchen-75/
LOCATION:Sportheim „Mainblick“\, Am Sportplatz\, Sulzbach\, 63834\, Deutschland
CATEGORIES:Ständchen
END:VEVENT
BEGIN:VEVENT
DTSTART;TZID=Europe/Berlin:20230310T170000
DTEND;TZID=Europe/Berlin:20230312T120000
DTSTAMP:20260424T035903
CREATED:20220330T101131Z
LAST-MODIFIED:20220330T101131Z
UID:5354-1678467600-1678622400@docker.mv-sulzbach.de
SUMMARY:Probenwochenende mit Jan Van der Roost
DESCRIPTION:
URL:https://docker.mv-sulzbach.de/event/probenwochenende-mit-jan-van-der-roost/
LOCATION:Schullandheim Hobbach
CATEGORIES:Probe
END:VEVENT
BEGIN:VEVENT
DTSTART;TZID=Europe/Berlin:20230317T194500
DTEND;TZID=Europe/Berlin:20230317T214500
DTSTAMP:20260424T035903
CREATED:20220816T070929Z
LAST-MODIFIED:20220816T070929Z
UID:5575-1679082300-1679089500@docker.mv-sulzbach.de
SUMMARY:Probe Blasorchester
DESCRIPTION:
URL:https://docker.mv-sulzbach.de/event/probe-blasorchester-296/
LOCATION:Braunwarthsmühle\, Friedhofstraße 5\, Sulzbach\, 63834\, Deutschland
CATEGORIES:Probe
END:VEVENT
BEGIN:VEVENT
DTSTART;TZID=Europe/Berlin:20230318T190000
DTEND;TZID=Europe/Berlin:20230318T190000
DTSTAMP:20260424T035903
CREATED:20230110T175353Z
LAST-MODIFIED:20230110T175353Z
UID:5766-1679166000-1679166000@docker.mv-sulzbach.de
SUMMARY:Ständchen
DESCRIPTION:Bernward Baron\, 60
URL:https://docker.mv-sulzbach.de/event/staendchen-73/
LOCATION:Sportheim „Mainblick“\, Am Sportplatz\, Sulzbach\, 63834\, Deutschland
CATEGORIES:Ständchen
END:VEVENT
BEGIN:VEVENT
DTSTART;TZID=Europe/Berlin:20230323T193000
DTEND;TZID=Europe/Berlin:20230323T213000
DTSTAMP:20260424T035903
CREATED:20220816T071030Z
LAST-MODIFIED:20220816T071030Z
UID:5579-1679599800-1679607000@docker.mv-sulzbach.de
SUMMARY:Probe Blasorchester
DESCRIPTION:
URL:https://docker.mv-sulzbach.de/event/probe-blasorchester-298/
LOCATION:Braunwarthsmühle\, Friedhofstraße 5\, Sulzbach\, 63834\, Deutschland
CATEGORIES:Probe,Sonderprobe
END:VEVENT
BEGIN:VEVENT
DTSTART;TZID=Europe/Berlin:20230324T130000
DTEND;TZID=Europe/Berlin:20230324T130000
DTSTAMP:20260424T035903
CREATED:20221118T155146Z
LAST-MODIFIED:20221118T155146Z
UID:5660-1679662800-1679662800@docker.mv-sulzbach.de
SUMMARY:Aufbau zum Jubiläumskonzert
DESCRIPTION:
URL:https://docker.mv-sulzbach.de/event/aufbau-zum-jubilaeumskonzert-2/
LOCATION:Main-Spessart-Halle\, Schulstraße\, Sulzbach\, 63834\, Deutschland
CATEGORIES:Sonstiges
END:VEVENT
BEGIN:VEVENT
DTSTART;TZID=Europe/Berlin:20230324T194500
DTEND;TZID=Europe/Berlin:20230324T220000
DTSTAMP:20260424T035903
CREATED:20220816T070943Z
LAST-MODIFIED:20230312T152947Z
UID:5577-1679687100-1679695200@docker.mv-sulzbach.de
SUMMARY:Probe Blasorchester mit Jan Van der Roost
DESCRIPTION:
URL:https://docker.mv-sulzbach.de/event/probe-blasorchester-297/
LOCATION:Main-Spessart-Halle\, Schulstraße\, Sulzbach\, 63834\, Deutschland
CATEGORIES:Probe
END:VEVENT
BEGIN:VEVENT
DTSTART;TZID=Europe/Berlin:20230325T100000
DTEND;TZID=Europe/Berlin:20230325T130000
DTSTAMP:20260424T035903
CREATED:20221118T155236Z
LAST-MODIFIED:20230312T153134Z
UID:5662-1679738400-1679749200@docker.mv-sulzbach.de
SUMMARY:Probe mit Jan Van der Roost
DESCRIPTION:
URL:https://docker.mv-sulzbach.de/event/probe-sbo-zum-jubilaeumskonzert/
LOCATION:Main-Spessart-Halle\, Schulstraße\, Sulzbach\, 63834\, Deutschland
CATEGORIES:Probe,Sonderprobe
END:VEVENT
BEGIN:VEVENT
DTSTART;TZID=Europe/Berlin:20230325T173000
DTEND;TZID=Europe/Berlin:20230325T200000
DTSTAMP:20260424T035903
CREATED:20230312T153159Z
LAST-MODIFIED:20230312T153159Z
UID:5861-1679765400-1679774400@docker.mv-sulzbach.de
SUMMARY:Probe mit Jan Van der Roost
DESCRIPTION:
URL:https://docker.mv-sulzbach.de/event/probe-mit-jan-van-der-roost/
LOCATION:Main-Spessart-Halle\, Schulstraße\, Sulzbach\, 63834\, Deutschland
CATEGORIES:Probe,Sonderprobe
END:VEVENT
BEGIN:VEVENT
DTSTART;TZID=Europe/Berlin:20230326T160000
DTEND;TZID=Europe/Berlin:20230326T160000
DTSTAMP:20260424T035903
CREATED:20230312T153312Z
LAST-MODIFIED:20230312T153312Z
UID:5863-1679846400-1679846400@docker.mv-sulzbach.de
SUMMARY:Treffen zum Konzert
DESCRIPTION:In Konzertkleidung
URL:https://docker.mv-sulzbach.de/event/treffen-zum-konzert-3/
LOCATION:Main-Spessart-Halle\, Schulstraße\, Sulzbach\, 63834\, Deutschland
CATEGORIES:Sonstiges
END:VEVENT
BEGIN:VEVENT
DTSTART;TZID=Europe/Berlin:20230326T180000
DTEND;TZID=Europe/Berlin:20230326T200000
DTSTAMP:20260424T035903
CREATED:20220330T101246Z
LAST-MODIFIED:20230121T212422Z
UID:5356-1679853600-1679860800@docker.mv-sulzbach.de
SUMMARY:Jubiläumskonzert 100 Jahre MV Sulzbach
DESCRIPTION:Tickets: https://tickets.mv-sulzbach.de/MV/das-konzert-23/
URL:https://docker.mv-sulzbach.de/event/jubilaeumskonzert-100-jahre-mv-sulzbach/
LOCATION:Main-Spessart-Halle\, Schulstraße\, Sulzbach\, 63834\, Deutschland
CATEGORIES:Aufritt
END:VEVENT
BEGIN:VEVENT
DTSTART;VALUE=DATE:20230331
DTEND;VALUE=DATE:20230401
DTSTAMP:20260424T035903
CREATED:20230328T173614Z
LAST-MODIFIED:20230328T173614Z
UID:5886-1680220800-1680307199@docker.mv-sulzbach.de
SUMMARY:Probe Blasorchester -ENTFÄLLT-
DESCRIPTION:
URL:https://docker.mv-sulzbach.de/event/probe-blasorchester-entfaellt-16/
CATEGORIES:Sonstiges
END:VEVENT
END:VCALENDAR