BEGIN:VCALENDAR
VERSION:2.0
PRODID:-//Musikverein Edelweiß - ECPv6.15.17//NONSGML v1.0//EN
CALSCALE:GREGORIAN
METHOD:PUBLISH
X-WR-CALNAME:Musikverein Edelweiß
X-ORIGINAL-URL:https://docker.mv-sulzbach.de
X-WR-CALDESC:Veranstaltungen für Musikverein Edelweiß
REFRESH-INTERVAL;VALUE=DURATION:PT1H
X-Robots-Tag:noindex
X-PUBLISHED-TTL:PT1H
BEGIN:VTIMEZONE
TZID:Europe/Berlin
BEGIN:DAYLIGHT
TZOFFSETFROM:+0100
TZOFFSETTO:+0200
TZNAME:CEST
DTSTART:20220327T010000
END:DAYLIGHT
BEGIN:STANDARD
TZOFFSETFROM:+0200
TZOFFSETTO:+0100
TZNAME:CET
DTSTART:20221030T010000
END:STANDARD
BEGIN:DAYLIGHT
TZOFFSETFROM:+0100
TZOFFSETTO:+0200
TZNAME:CEST
DTSTART:20230326T010000
END:DAYLIGHT
BEGIN:STANDARD
TZOFFSETFROM:+0200
TZOFFSETTO:+0100
TZNAME:CET
DTSTART:20231029T010000
END:STANDARD
BEGIN:DAYLIGHT
TZOFFSETFROM:+0100
TZOFFSETTO:+0200
TZNAME:CEST
DTSTART:20240331T010000
END:DAYLIGHT
BEGIN:STANDARD
TZOFFSETFROM:+0200
TZOFFSETTO:+0100
TZNAME:CET
DTSTART:20241027T010000
END:STANDARD
END:VTIMEZONE
BEGIN:VEVENT
DTSTART;TZID=Europe/Berlin:20230402T094500
DTEND;TZID=Europe/Berlin:20230402T094500
DTSTAMP:20260424T013927
CREATED:20230114T082650Z
LAST-MODIFIED:20230114T082650Z
UID:5770-1680428700-1680428700@docker.mv-sulzbach.de
SUMMARY:Prozession zu Palmsonntag
DESCRIPTION:
URL:https://docker.mv-sulzbach.de/event/prozession-zu-palmsonntag/
LOCATION:Eckbäcker
CATEGORIES:Kirchlich
END:VEVENT
BEGIN:VEVENT
DTSTART;TZID=Europe/Berlin:20230405T193000
DTEND;TZID=Europe/Berlin:20230405T213000
DTSTAMP:20260424T013927
CREATED:20230305T183521Z
LAST-MODIFIED:20230305T183521Z
UID:5853-1680723000-1680730200@docker.mv-sulzbach.de
SUMMARY:Sitzung Festausschuss
DESCRIPTION:
URL:https://docker.mv-sulzbach.de/event/sitzung-festausschuss/
LOCATION:Braunwarthsmühle\, Friedhofstraße 5\, Sulzbach\, 63834\, Deutschland
CATEGORIES:Sonstiges
END:VEVENT
BEGIN:VEVENT
DTSTART;TZID=Europe/Berlin:20230412T193000
DTEND;TZID=Europe/Berlin:20230412T220000
DTSTAMP:20260424T013927
CREATED:20230407T065623Z
LAST-MODIFIED:20230407T065623Z
UID:5967-1681327800-1681336800@docker.mv-sulzbach.de
SUMMARY:Ausschusssitzung
DESCRIPTION:
URL:https://docker.mv-sulzbach.de/event/ausschusssitzung-68/
LOCATION:Braunwarthsmühle\, Friedhofstraße 5\, Sulzbach\, 63834\, Deutschland
CATEGORIES:Auschuss
END:VEVENT
BEGIN:VEVENT
DTSTART;TZID=Europe/Berlin:20230414T194500
DTEND;TZID=Europe/Berlin:20230414T214500
DTSTAMP:20260424T013927
CREATED:20230327T140239Z
LAST-MODIFIED:20230327T140239Z
UID:5866-1681501500-1681508700@docker.mv-sulzbach.de
SUMMARY:Probe Blasorchester
DESCRIPTION:
URL:https://docker.mv-sulzbach.de/event/probe-blasorchester-295/
LOCATION:Braunwarthsmühle\, Friedhofstraße 5\, Sulzbach\, 63834\, Deutschland
CATEGORIES:Probe
END:VEVENT
BEGIN:VEVENT
DTSTART;TZID=Europe/Berlin:20230421T194500
DTEND;TZID=Europe/Berlin:20230421T214500
DTSTAMP:20260424T013927
CREATED:20230328T173648Z
LAST-MODIFIED:20230328T173648Z
UID:5888-1682106300-1682113500@docker.mv-sulzbach.de
SUMMARY:Probe Blasorchester
DESCRIPTION:
URL:https://docker.mv-sulzbach.de/event/probe-blasorchester-299/
LOCATION:Braunwarthsmühle\, Friedhofstraße 5\, Sulzbach\, 63834\, Deutschland
CATEGORIES:Probe
END:VEVENT
BEGIN:VEVENT
DTSTART;TZID=Europe/Berlin:20230422T190000
DTEND;TZID=Europe/Berlin:20230422T190000
DTSTAMP:20260424T013927
CREATED:20220330T101443Z
LAST-MODIFIED:20230412T043743Z
UID:5359-1682190000-1682190000@docker.mv-sulzbach.de
SUMMARY:Ehrenabend 100 Jahre MV Sulzbach
DESCRIPTION:
URL:https://docker.mv-sulzbach.de/event/ehrenabend-100-jahre-mv-sulzbach/
LOCATION:Braunwarthsmühle\, Friedhofstraße 5\, Sulzbach\, 63834\, Deutschland
CATEGORIES:Sonstiges
END:VEVENT
BEGIN:VEVENT
DTSTART;TZID=Europe/Berlin:20230425T193000
DTEND;TZID=Europe/Berlin:20230425T220000
DTSTAMP:20260424T013927
CREATED:20230407T065715Z
LAST-MODIFIED:20230407T065715Z
UID:5969-1682451000-1682460000@docker.mv-sulzbach.de
SUMMARY:Festausschusssitzung
DESCRIPTION:
URL:https://docker.mv-sulzbach.de/event/festausschusssitzung-4/
LOCATION:Braunwarthsmühle\, Friedhofstraße 5\, Sulzbach\, 63834\, Deutschland
CATEGORIES:Sonstiges
END:VEVENT
BEGIN:VEVENT
DTSTART;TZID=Europe/Berlin:20230427T193000
DTEND;TZID=Europe/Berlin:20230427T214500
DTSTAMP:20260424T013927
CREATED:20230328T173708Z
LAST-MODIFIED:20230424T182647Z
UID:5890-1682623800-1682631900@docker.mv-sulzbach.de
SUMMARY:Probe Blasorchester
DESCRIPTION:
URL:https://docker.mv-sulzbach.de/event/probe-blasorchester-300/
LOCATION:Braunwarthsmühle\, Friedhofstraße 5\, Sulzbach\, 63834\, Deutschland
CATEGORIES:Probe
END:VEVENT
BEGIN:VEVENT
DTSTART;TZID=Europe/Berlin:20230430T170000
DTEND;TZID=Europe/Berlin:20230430T220000
DTSTAMP:20260424T013927
CREATED:20230122T160159Z
LAST-MODIFIED:20230122T160159Z
UID:5809-1682874000-1682892000@docker.mv-sulzbach.de
SUMMARY:Maibaumaufstellung
DESCRIPTION:
URL:https://docker.mv-sulzbach.de/event/maibaumaufstellung-7/
LOCATION:Feuerwehrgerätehaus\, Spessartstraße 124\, Sulzbach\, 63834\, Deutschland
CATEGORIES:Aufritt
END:VEVENT
END:VCALENDAR