BEGIN:VCALENDAR
VERSION:2.0
PRODID:-//Musikverein Edelweiß - ECPv6.15.17//NONSGML v1.0//EN
CALSCALE:GREGORIAN
METHOD:PUBLISH
X-ORIGINAL-URL:https://docker.mv-sulzbach.de
X-WR-CALDESC:Veranstaltungen für Musikverein Edelweiß
REFRESH-INTERVAL;VALUE=DURATION:PT1H
X-Robots-Tag:noindex
X-PUBLISHED-TTL:PT1H
BEGIN:VTIMEZONE
TZID:Europe/Berlin
BEGIN:DAYLIGHT
TZOFFSETFROM:+0100
TZOFFSETTO:+0200
TZNAME:CEST
DTSTART:20220327T010000
END:DAYLIGHT
BEGIN:STANDARD
TZOFFSETFROM:+0200
TZOFFSETTO:+0100
TZNAME:CET
DTSTART:20221030T010000
END:STANDARD
BEGIN:DAYLIGHT
TZOFFSETFROM:+0100
TZOFFSETTO:+0200
TZNAME:CEST
DTSTART:20230326T010000
END:DAYLIGHT
BEGIN:STANDARD
TZOFFSETFROM:+0200
TZOFFSETTO:+0100
TZNAME:CET
DTSTART:20231029T010000
END:STANDARD
BEGIN:DAYLIGHT
TZOFFSETFROM:+0100
TZOFFSETTO:+0200
TZNAME:CEST
DTSTART:20240331T010000
END:DAYLIGHT
BEGIN:STANDARD
TZOFFSETFROM:+0200
TZOFFSETTO:+0100
TZNAME:CET
DTSTART:20241027T010000
END:STANDARD
END:VTIMEZONE
BEGIN:VEVENT
DTSTART;TZID=Europe/Berlin:20230502T193000
DTEND;TZID=Europe/Berlin:20230502T223000
DTSTAMP:20260423T233140
CREATED:20230424T183211Z
LAST-MODIFIED:20230424T183211Z
UID:6009-1683055800-1683066600@docker.mv-sulzbach.de
SUMMARY:Ausschusssitzung
DESCRIPTION:
URL:https://docker.mv-sulzbach.de/event/ausschusssitzung-69/
LOCATION:Braunwarthsmühle\, Friedhofstraße 5\, Sulzbach\, 63834\, Deutschland
CATEGORIES:Auschuss
END:VEVENT
BEGIN:VEVENT
DTSTART;TZID=Europe/Berlin:20230505T194500
DTEND;TZID=Europe/Berlin:20230505T214500
DTSTAMP:20260423T233140
CREATED:20230328T173726Z
LAST-MODIFIED:20230328T173726Z
UID:5892-1683315900-1683323100@docker.mv-sulzbach.de
SUMMARY:Probe Blasorchester
DESCRIPTION:
URL:https://docker.mv-sulzbach.de/event/probe-blasorchester-301/
LOCATION:Braunwarthsmühle\, Friedhofstraße 5\, Sulzbach\, 63834\, Deutschland
CATEGORIES:Probe
END:VEVENT
BEGIN:VEVENT
DTSTART;TZID=Europe/Berlin:20230512T194500
DTEND;TZID=Europe/Berlin:20230512T214500
DTSTAMP:20260423T233140
CREATED:20230328T173741Z
LAST-MODIFIED:20230328T173741Z
UID:5894-1683920700-1683927900@docker.mv-sulzbach.de
SUMMARY:Probe Blasorchester
DESCRIPTION:
URL:https://docker.mv-sulzbach.de/event/probe-blasorchester-302/
LOCATION:Braunwarthsmühle\, Friedhofstraße 5\, Sulzbach\, 63834\, Deutschland
CATEGORIES:Probe
END:VEVENT
BEGIN:VEVENT
DTSTART;TZID=Europe/Berlin:20230513T164500
DTEND;TZID=Europe/Berlin:20230513T210000
DTSTAMP:20260423T233140
CREATED:20230114T083515Z
LAST-MODIFIED:20230507T071010Z
UID:5780-1683996300-1684011600@docker.mv-sulzbach.de
SUMMARY:Florianstag der Freiwilligen Feuerwehr
DESCRIPTION:in Tracht. \nKirchenparade zur Kirche \nnach dem Gottesdienst Fahrzeugweihe und Marsch zur BWM\, dort noch ein paar Stücke
URL:https://docker.mv-sulzbach.de/event/florianstag-der-freiwilligen-feuerwehr/
LOCATION:Rathausplatz
CATEGORIES:Aufritt
END:VEVENT
BEGIN:VEVENT
DTSTART;TZID=Europe/Berlin:20230514T150000
DTEND;TZID=Europe/Berlin:20230514T170000
DTSTAMP:20260423T233140
CREATED:20220330T101810Z
LAST-MODIFIED:20230209T164256Z
UID:5364-1684076400-1684083600@docker.mv-sulzbach.de
SUMMARY:das Jugendkonzert
DESCRIPTION:
URL:https://docker.mv-sulzbach.de/event/das-jugendkonzert-6/
LOCATION:Braunwarthsmühle\, Friedhofstraße 5\, Sulzbach\, 63834\, Deutschland
CATEGORIES:Jugendauftritt
END:VEVENT
BEGIN:VEVENT
DTSTART;TZID=Europe/Berlin:20230515T184500
DTEND;TZID=Europe/Berlin:20230515T184500
DTSTAMP:20260423T233140
CREATED:20230504T160729Z
LAST-MODIFIED:20230504T160729Z
UID:6032-1684176300-1684176300@docker.mv-sulzbach.de
SUMMARY:Ständchen
DESCRIPTION:Lothar Waßmer\, 80
URL:https://docker.mv-sulzbach.de/event/staendchen-85/
LOCATION:Braunwarthsmühle\, Friedhofstraße 5\, Sulzbach\, 63834\, Deutschland
CATEGORIES:Ständchen
END:VEVENT
BEGIN:VEVENT
DTSTART;TZID=Europe/Berlin:20230516T190000
DTEND;TZID=Europe/Berlin:20230516T220000
DTSTAMP:20260423T233140
CREATED:20230504T160841Z
LAST-MODIFIED:20230504T160841Z
UID:6036-1684263600-1684274400@docker.mv-sulzbach.de
SUMMARY:Festausschusssitzung
DESCRIPTION:
URL:https://docker.mv-sulzbach.de/event/festausschusssitzung-5/
LOCATION:Braunwarthsmühle\, Friedhofstraße 5\, Sulzbach\, 63834\, Deutschland
CATEGORIES:Auschuss
END:VEVENT
BEGIN:VEVENT
DTSTART;TZID=Europe/Berlin:20230518T091500
DTEND;TZID=Europe/Berlin:20230518T113000
DTSTAMP:20260423T233140
CREATED:20230116T170720Z
LAST-MODIFIED:20230116T170720Z
UID:5787-1684401300-1684409400@docker.mv-sulzbach.de
SUMMARY:Flurprozession zu Christi Himmelfahrt
DESCRIPTION:
URL:https://docker.mv-sulzbach.de/event/flurprozession-zu-christi-himmelfahrt/
LOCATION:Kirchplatz
CATEGORIES:Kirchlich
END:VEVENT
BEGIN:VEVENT
DTSTART;TZID=Europe/Berlin:20230519T194500
DTEND;TZID=Europe/Berlin:20230519T214500
DTSTAMP:20260423T233140
CREATED:20230328T173756Z
LAST-MODIFIED:20230328T173756Z
UID:5896-1684525500-1684532700@docker.mv-sulzbach.de
SUMMARY:Probe Blasorchester
DESCRIPTION:
URL:https://docker.mv-sulzbach.de/event/probe-blasorchester-303/
LOCATION:Braunwarthsmühle\, Friedhofstraße 5\, Sulzbach\, 63834\, Deutschland
CATEGORIES:Probe
END:VEVENT
BEGIN:VEVENT
DTSTART;TZID=Europe/Berlin:20230526T194500
DTEND;TZID=Europe/Berlin:20230526T214500
DTSTAMP:20260423T233140
CREATED:20230328T173819Z
LAST-MODIFIED:20230328T173819Z
UID:5898-1685130300-1685137500@docker.mv-sulzbach.de
SUMMARY:Probe Blasorchester
DESCRIPTION:
URL:https://docker.mv-sulzbach.de/event/probe-blasorchester-304/
LOCATION:Braunwarthsmühle\, Friedhofstraße 5\, Sulzbach\, 63834\, Deutschland
CATEGORIES:Probe
END:VEVENT
BEGIN:VEVENT
DTSTART;TZID=Europe/Berlin:20230530T190000
DTEND;TZID=Europe/Berlin:20230530T220000
DTSTAMP:20260423T233140
CREATED:20230517T113303Z
LAST-MODIFIED:20230517T113303Z
UID:6045-1685473200-1685484000@docker.mv-sulzbach.de
SUMMARY:Festausschusssitzung
DESCRIPTION:
URL:https://docker.mv-sulzbach.de/event/festausschusssitzung-6/
LOCATION:Braunwarthsmühle\, Friedhofstraße 5\, Sulzbach\, 63834\, Deutschland
CATEGORIES:Auschuss
END:VEVENT
END:VCALENDAR