BEGIN:VCALENDAR
VERSION:2.0
PRODID:-//Musikverein Edelweiß - ECPv6.15.17//NONSGML v1.0//EN
CALSCALE:GREGORIAN
METHOD:PUBLISH
X-WR-CALNAME:Musikverein Edelweiß
X-ORIGINAL-URL:https://docker.mv-sulzbach.de
X-WR-CALDESC:Veranstaltungen für Musikverein Edelweiß
REFRESH-INTERVAL;VALUE=DURATION:PT1H
X-Robots-Tag:noindex
X-PUBLISHED-TTL:PT1H
BEGIN:VTIMEZONE
TZID:Europe/Berlin
BEGIN:DAYLIGHT
TZOFFSETFROM:+0100
TZOFFSETTO:+0200
TZNAME:CEST
DTSTART:20220327T010000
END:DAYLIGHT
BEGIN:STANDARD
TZOFFSETFROM:+0200
TZOFFSETTO:+0100
TZNAME:CET
DTSTART:20221030T010000
END:STANDARD
BEGIN:DAYLIGHT
TZOFFSETFROM:+0100
TZOFFSETTO:+0200
TZNAME:CEST
DTSTART:20230326T010000
END:DAYLIGHT
BEGIN:STANDARD
TZOFFSETFROM:+0200
TZOFFSETTO:+0100
TZNAME:CET
DTSTART:20231029T010000
END:STANDARD
BEGIN:DAYLIGHT
TZOFFSETFROM:+0100
TZOFFSETTO:+0200
TZNAME:CEST
DTSTART:20240331T010000
END:DAYLIGHT
BEGIN:STANDARD
TZOFFSETFROM:+0200
TZOFFSETTO:+0100
TZNAME:CET
DTSTART:20241027T010000
END:STANDARD
END:VTIMEZONE
BEGIN:VEVENT
DTSTART;TZID=Europe/Berlin:20230602T194500
DTEND;TZID=Europe/Berlin:20230602T214500
DTSTAMP:20260423T215109
CREATED:20230328T173841Z
LAST-MODIFIED:20230328T173841Z
UID:5900-1685735100-1685742300@docker.mv-sulzbach.de
SUMMARY:Probe Blasorchester
DESCRIPTION:
URL:https://docker.mv-sulzbach.de/event/probe-blasorchester-305/
LOCATION:Braunwarthsmühle\, Friedhofstraße 5\, Sulzbach\, 63834\, Deutschland
CATEGORIES:Probe
END:VEVENT
BEGIN:VEVENT
DTSTART;TZID=Europe/Berlin:20230608T091500
DTEND;TZID=Europe/Berlin:20230608T113000
DTSTAMP:20260423T215109
CREATED:20230116T170802Z
LAST-MODIFIED:20230116T170802Z
UID:5789-1686215700-1686223800@docker.mv-sulzbach.de
SUMMARY:Prozession zu Fronleichnam
DESCRIPTION:
URL:https://docker.mv-sulzbach.de/event/prozession-zu-fronleichnam-2/
LOCATION:Kirchplatz
CATEGORIES:Kirchlich
END:VEVENT
BEGIN:VEVENT
DTSTART;TZID=Europe/Berlin:20230609T194500
DTEND;TZID=Europe/Berlin:20230609T214500
DTSTAMP:20260423T215109
CREATED:20230328T173856Z
LAST-MODIFIED:20230328T173856Z
UID:5902-1686339900-1686347100@docker.mv-sulzbach.de
SUMMARY:Probe Blasorchester
DESCRIPTION:
URL:https://docker.mv-sulzbach.de/event/probe-blasorchester-306/
LOCATION:Braunwarthsmühle\, Friedhofstraße 5\, Sulzbach\, 63834\, Deutschland
CATEGORIES:Probe
END:VEVENT
BEGIN:VEVENT
DTSTART;TZID=Europe/Berlin:20230612T190000
DTEND;TZID=Europe/Berlin:20230612T220000
DTSTAMP:20260423T215109
CREATED:20230531T051856Z
LAST-MODIFIED:20230531T051856Z
UID:6052-1686596400-1686607200@docker.mv-sulzbach.de
SUMMARY:Festausschusssitzung
DESCRIPTION:
URL:https://docker.mv-sulzbach.de/event/festausschusssitzung-7/
LOCATION:Braunwarthsmühle\, Friedhofstraße 5\, Sulzbach\, 63834\, Deutschland
CATEGORIES:Auschuss
END:VEVENT
BEGIN:VEVENT
DTSTART;TZID=Europe/Berlin:20230616T080000
DTEND;TZID=Europe/Berlin:20230616T080000
DTSTAMP:20260423T215109
CREATED:20230425T123510Z
LAST-MODIFIED:20230425T123510Z
UID:6011-1686902400-1686902400@docker.mv-sulzbach.de
SUMMARY:Aufbau zum Jubiläumsfest
DESCRIPTION:
URL:https://docker.mv-sulzbach.de/event/aufbau-zum-jubilaeumsfest/
LOCATION:Festplatz Sulzbach
CATEGORIES:Probe
END:VEVENT
BEGIN:VEVENT
DTSTART;TZID=Europe/Berlin:20230617T080000
DTEND;TZID=Europe/Berlin:20230617T080000
DTSTAMP:20260423T215109
CREATED:20230425T123634Z
LAST-MODIFIED:20230425T123634Z
UID:6016-1686988800-1686988800@docker.mv-sulzbach.de
SUMMARY:Aufbau zum Jubiläumsfest
DESCRIPTION:
URL:https://docker.mv-sulzbach.de/event/aufbau-zum-jubilaeumsfest-2/
LOCATION:Festplatz Sulzbach
CATEGORIES:Probe
END:VEVENT
BEGIN:VEVENT
DTSTART;TZID=Europe/Berlin:20230617T170000
DTEND;TZID=Europe/Berlin:20230618T210000
DTSTAMP:20260423T215109
CREATED:20220330T101643Z
LAST-MODIFIED:20220330T101643Z
UID:5361-1687021200-1687122000@docker.mv-sulzbach.de
SUMMARY:Jubiläumsfest 100 Jahre MV Sulzbach
DESCRIPTION:
URL:https://docker.mv-sulzbach.de/event/jubilaeumsfest-100-jahre-mv-sulzbach/
LOCATION:Festplatz Sulzbach
CATEGORIES:Sonstiges
END:VEVENT
BEGIN:VEVENT
DTSTART;TZID=Europe/Berlin:20230619T080000
DTEND;TZID=Europe/Berlin:20230619T080000
DTSTAMP:20260423T215109
CREATED:20230425T123537Z
LAST-MODIFIED:20230425T123537Z
UID:6013-1687161600-1687161600@docker.mv-sulzbach.de
SUMMARY:Abbau Jubiläumsfest
DESCRIPTION:
URL:https://docker.mv-sulzbach.de/event/abbau-jubilaeumsfest/
LOCATION:Festplatz Sulzbach
CATEGORIES:Probe
END:VEVENT
BEGIN:VEVENT
DTSTART;TZID=Europe/Berlin:20230623T194500
DTEND;TZID=Europe/Berlin:20230623T214500
DTSTAMP:20260423T215109
CREATED:20230328T173912Z
LAST-MODIFIED:20230328T173912Z
UID:5904-1687549500-1687556700@docker.mv-sulzbach.de
SUMMARY:Probe Blasorchester
DESCRIPTION:
URL:https://docker.mv-sulzbach.de/event/probe-blasorchester-307/
LOCATION:Braunwarthsmühle\, Friedhofstraße 5\, Sulzbach\, 63834\, Deutschland
CATEGORIES:Probe
END:VEVENT
BEGIN:VEVENT
DTSTART;TZID=Europe/Berlin:20230625T110000
DTEND;TZID=Europe/Berlin:20230625T110000
DTSTAMP:20260423T215109
CREATED:20230502T162747Z
LAST-MODIFIED:20230502T162747Z
UID:6024-1687690800-1687690800@docker.mv-sulzbach.de
SUMMARY:Ständchen
DESCRIPTION:Norbert Geiger\, 50. Priesterjubiläum
URL:https://docker.mv-sulzbach.de/event/staendchen-83/
LOCATION:Kirchplatz
CATEGORIES:Ständchen
END:VEVENT
BEGIN:VEVENT
DTSTART;TZID=Europe/Berlin:20230630T194500
DTEND;TZID=Europe/Berlin:20230630T214500
DTSTAMP:20260423T215109
CREATED:20230328T173926Z
LAST-MODIFIED:20230328T173926Z
UID:5906-1688154300-1688161500@docker.mv-sulzbach.de
SUMMARY:Probe Blasorchester
DESCRIPTION:
URL:https://docker.mv-sulzbach.de/event/probe-blasorchester-308/
LOCATION:Braunwarthsmühle\, Friedhofstraße 5\, Sulzbach\, 63834\, Deutschland
CATEGORIES:Probe
END:VEVENT
END:VCALENDAR