BEGIN:VCALENDAR
VERSION:2.0
PRODID:-//Musikverein Edelweiß - ECPv6.15.17//NONSGML v1.0//EN
CALSCALE:GREGORIAN
METHOD:PUBLISH
X-ORIGINAL-URL:https://docker.mv-sulzbach.de
X-WR-CALDESC:Veranstaltungen für Musikverein Edelweiß
REFRESH-INTERVAL;VALUE=DURATION:PT1H
X-Robots-Tag:noindex
X-PUBLISHED-TTL:PT1H
BEGIN:VTIMEZONE
TZID:Europe/Berlin
BEGIN:DAYLIGHT
TZOFFSETFROM:+0100
TZOFFSETTO:+0200
TZNAME:CEST
DTSTART:20220327T010000
END:DAYLIGHT
BEGIN:STANDARD
TZOFFSETFROM:+0200
TZOFFSETTO:+0100
TZNAME:CET
DTSTART:20221030T010000
END:STANDARD
BEGIN:DAYLIGHT
TZOFFSETFROM:+0100
TZOFFSETTO:+0200
TZNAME:CEST
DTSTART:20230326T010000
END:DAYLIGHT
BEGIN:STANDARD
TZOFFSETFROM:+0200
TZOFFSETTO:+0100
TZNAME:CET
DTSTART:20231029T010000
END:STANDARD
BEGIN:DAYLIGHT
TZOFFSETFROM:+0100
TZOFFSETTO:+0200
TZNAME:CEST
DTSTART:20240331T010000
END:DAYLIGHT
BEGIN:STANDARD
TZOFFSETFROM:+0200
TZOFFSETTO:+0100
TZNAME:CET
DTSTART:20241027T010000
END:STANDARD
END:VTIMEZONE
BEGIN:VEVENT
DTSTART;TZID=Europe/Berlin:20230804T194500
DTEND;TZID=Europe/Berlin:20230804T214500
DTSTAMP:20260423T181950
CREATED:20230328T174451Z
LAST-MODIFIED:20230328T174451Z
UID:5916-1691178300-1691185500@docker.mv-sulzbach.de
SUMMARY:Probe Blasorchester
DESCRIPTION:
URL:https://docker.mv-sulzbach.de/event/probe-blasorchester-313/
LOCATION:Braunwarthsmühle\, Friedhofstraße 5\, Sulzbach\, 63834\, Deutschland
CATEGORIES:Probe
END:VEVENT
BEGIN:VEVENT
DTSTART;TZID=Europe/Berlin:20230808T193000
DTEND;TZID=Europe/Berlin:20230808T220000
DTSTAMP:20260423T181950
CREATED:20230704T170954Z
LAST-MODIFIED:20230802T180016Z
UID:6077-1691523000-1691532000@docker.mv-sulzbach.de
SUMMARY:Ausschusssitzung
DESCRIPTION:
URL:https://docker.mv-sulzbach.de/event/ausschusssitzung-71/
LOCATION:Braunwarthsmühle\, Friedhofstraße 5\, Sulzbach\, 63834\, Deutschland
CATEGORIES:Auschuss
END:VEVENT
BEGIN:VEVENT
DTSTART;TZID=Europe/Berlin:20230811T194500
DTEND;TZID=Europe/Berlin:20230811T214500
DTSTAMP:20260423T181950
CREATED:20230328T174512Z
LAST-MODIFIED:20230805T150511Z
UID:5918-1691783100-1691790300@docker.mv-sulzbach.de
SUMMARY:Probe Blasorchester -ENTFÄLLT-
DESCRIPTION:
URL:https://docker.mv-sulzbach.de/event/probe-blasorchester-314/
LOCATION:Braunwarthsmühle\, Friedhofstraße 5\, Sulzbach\, 63834\, Deutschland
CATEGORIES:Sonstiges
END:VEVENT
BEGIN:VEVENT
DTSTART;TZID=Europe/Berlin:20230815T100000
DTEND;TZID=Europe/Berlin:20230815T100000
DTSTAMP:20260423T181950
CREATED:20230114T083054Z
LAST-MODIFIED:20230114T083054Z
UID:5772-1692093600-1692093600@docker.mv-sulzbach.de
SUMMARY:Gottesdienst zu Mariä Himmelfahrt
DESCRIPTION:
URL:https://docker.mv-sulzbach.de/event/gottesdienst-zu-mariae-himmelfahrt-3/
LOCATION:Kapelle an der Pfingstweide
CATEGORIES:Kirchlich
END:VEVENT
BEGIN:VEVENT
DTSTART;TZID=Europe/Berlin:20230818T194500
DTEND;TZID=Europe/Berlin:20230818T214500
DTSTAMP:20260423T181950
CREATED:20230328T174529Z
LAST-MODIFIED:20230805T150558Z
UID:5920-1692387900-1692395100@docker.mv-sulzbach.de
SUMMARY:Probe Blasorchester -ENTFÄLLT-
DESCRIPTION:
URL:https://docker.mv-sulzbach.de/event/probe-blasorchester-315/
LOCATION:Braunwarthsmühle\, Friedhofstraße 5\, Sulzbach\, 63834\, Deutschland
CATEGORIES:Sonstiges
END:VEVENT
BEGIN:VEVENT
DTSTART;TZID=Europe/Berlin:20230825T194500
DTEND;TZID=Europe/Berlin:20230825T214500
DTSTAMP:20260423T181950
CREATED:20230328T174542Z
LAST-MODIFIED:20230805T150644Z
UID:5922-1692992700-1692999900@docker.mv-sulzbach.de
SUMMARY:Probe Blasorchester -ENTFÄLLT-
DESCRIPTION:
URL:https://docker.mv-sulzbach.de/event/probe-blasorchester-316/
LOCATION:Braunwarthsmühle\, Friedhofstraße 5\, Sulzbach\, 63834\, Deutschland
CATEGORIES:Sonstiges
END:VEVENT
END:VCALENDAR