BEGIN:VCALENDAR
VERSION:2.0
PRODID:-//Musikverein Edelweiß - ECPv6.15.17//NONSGML v1.0//EN
CALSCALE:GREGORIAN
METHOD:PUBLISH
X-ORIGINAL-URL:https://docker.mv-sulzbach.de
X-WR-CALDESC:Veranstaltungen für Musikverein Edelweiß
REFRESH-INTERVAL;VALUE=DURATION:PT1H
X-Robots-Tag:noindex
X-PUBLISHED-TTL:PT1H
BEGIN:VTIMEZONE
TZID:Europe/Berlin
BEGIN:DAYLIGHT
TZOFFSETFROM:+0100
TZOFFSETTO:+0200
TZNAME:CEST
DTSTART:20220327T010000
END:DAYLIGHT
BEGIN:STANDARD
TZOFFSETFROM:+0200
TZOFFSETTO:+0100
TZNAME:CET
DTSTART:20221030T010000
END:STANDARD
BEGIN:DAYLIGHT
TZOFFSETFROM:+0100
TZOFFSETTO:+0200
TZNAME:CEST
DTSTART:20230326T010000
END:DAYLIGHT
BEGIN:STANDARD
TZOFFSETFROM:+0200
TZOFFSETTO:+0100
TZNAME:CET
DTSTART:20231029T010000
END:STANDARD
BEGIN:DAYLIGHT
TZOFFSETFROM:+0100
TZOFFSETTO:+0200
TZNAME:CEST
DTSTART:20240331T010000
END:DAYLIGHT
BEGIN:STANDARD
TZOFFSETFROM:+0200
TZOFFSETTO:+0100
TZNAME:CET
DTSTART:20241027T010000
END:STANDARD
END:VTIMEZONE
BEGIN:VEVENT
DTSTART;TZID=Europe/Berlin:20230901T194500
DTEND;TZID=Europe/Berlin:20230901T214500
DTSTAMP:20260423T164208
CREATED:20230328T174558Z
LAST-MODIFIED:20230328T174558Z
UID:5924-1693597500-1693604700@docker.mv-sulzbach.de
SUMMARY:Probe Blasorchester
DESCRIPTION:
URL:https://docker.mv-sulzbach.de/event/probe-blasorchester-317/
LOCATION:Braunwarthsmühle\, Friedhofstraße 5\, Sulzbach\, 63834\, Deutschland
CATEGORIES:Probe
END:VEVENT
BEGIN:VEVENT
DTSTART;TZID=Europe/Berlin:20230904T180000
DTEND;TZID=Europe/Berlin:20230904T180000
DTSTAMP:20260423T164208
CREATED:20230802T180334Z
LAST-MODIFIED:20230802T180334Z
UID:6095-1693850400-1693850400@docker.mv-sulzbach.de
SUMMARY:Kerbverbrennung
DESCRIPTION:
URL:https://docker.mv-sulzbach.de/event/kerbverbrennung-3/
LOCATION:Grillplatz
CATEGORIES:Aufritt
END:VEVENT
BEGIN:VEVENT
DTSTART;TZID=Europe/Berlin:20230908T194500
DTEND;TZID=Europe/Berlin:20230908T214500
DTSTAMP:20260423T164208
CREATED:20230328T174613Z
LAST-MODIFIED:20230328T174613Z
UID:5926-1694202300-1694209500@docker.mv-sulzbach.de
SUMMARY:Probe Blasorchester
DESCRIPTION:
URL:https://docker.mv-sulzbach.de/event/probe-blasorchester-318/
LOCATION:Braunwarthsmühle\, Friedhofstraße 5\, Sulzbach\, 63834\, Deutschland
CATEGORIES:Probe
END:VEVENT
BEGIN:VEVENT
DTSTART;TZID=Europe/Berlin:20230911T193000
DTEND;TZID=Europe/Berlin:20230911T213000
DTSTAMP:20260423T164208
CREATED:20230908T132743Z
LAST-MODIFIED:20230908T132743Z
UID:6112-1694460600-1694467800@docker.mv-sulzbach.de
SUMMARY:Ausschusssitzung
DESCRIPTION:
URL:https://docker.mv-sulzbach.de/event/ausschusssitzung-72/
LOCATION:Braunwarthsmühle\, Friedhofstraße 5\, Sulzbach\, 63834\, Deutschland
CATEGORIES:Auschuss
END:VEVENT
BEGIN:VEVENT
DTSTART;TZID=Europe/Berlin:20230915T194500
DTEND;TZID=Europe/Berlin:20230915T214500
DTSTAMP:20260423T164208
CREATED:20230328T174651Z
LAST-MODIFIED:20230328T174651Z
UID:5928-1694807100-1694814300@docker.mv-sulzbach.de
SUMMARY:Probe Blasorchester
DESCRIPTION:
URL:https://docker.mv-sulzbach.de/event/probe-blasorchester-319/
LOCATION:Braunwarthsmühle\, Friedhofstraße 5\, Sulzbach\, 63834\, Deutschland
CATEGORIES:Probe
END:VEVENT
BEGIN:VEVENT
DTSTART;TZID=Europe/Berlin:20230922T194500
DTEND;TZID=Europe/Berlin:20230922T214500
DTSTAMP:20260423T164208
CREATED:20230328T174704Z
LAST-MODIFIED:20230328T174704Z
UID:5930-1695411900-1695419100@docker.mv-sulzbach.de
SUMMARY:Probe Blasorchester
DESCRIPTION:
URL:https://docker.mv-sulzbach.de/event/probe-blasorchester-320/
LOCATION:Braunwarthsmühle\, Friedhofstraße 5\, Sulzbach\, 63834\, Deutschland
CATEGORIES:Probe
END:VEVENT
BEGIN:VEVENT
DTSTART;TZID=Europe/Berlin:20230929T194500
DTEND;TZID=Europe/Berlin:20230929T214500
DTSTAMP:20260423T164208
CREATED:20230328T174719Z
LAST-MODIFIED:20230328T174719Z
UID:5932-1696016700-1696023900@docker.mv-sulzbach.de
SUMMARY:Probe Blasorchester
DESCRIPTION:
URL:https://docker.mv-sulzbach.de/event/probe-blasorchester-321/
LOCATION:Braunwarthsmühle\, Friedhofstraße 5\, Sulzbach\, 63834\, Deutschland
CATEGORIES:Probe
END:VEVENT
END:VCALENDAR