BEGIN:VCALENDAR
VERSION:2.0
PRODID:-//Musikverein Edelweiß - ECPv6.15.17//NONSGML v1.0//EN
CALSCALE:GREGORIAN
METHOD:PUBLISH
X-ORIGINAL-URL:https://docker.mv-sulzbach.de
X-WR-CALDESC:Veranstaltungen für Musikverein Edelweiß
REFRESH-INTERVAL;VALUE=DURATION:PT1H
X-Robots-Tag:noindex
X-PUBLISHED-TTL:PT1H
BEGIN:VTIMEZONE
TZID:Europe/Berlin
BEGIN:DAYLIGHT
TZOFFSETFROM:+0100
TZOFFSETTO:+0200
TZNAME:CEST
DTSTART:20220327T010000
END:DAYLIGHT
BEGIN:STANDARD
TZOFFSETFROM:+0200
TZOFFSETTO:+0100
TZNAME:CET
DTSTART:20221030T010000
END:STANDARD
BEGIN:DAYLIGHT
TZOFFSETFROM:+0100
TZOFFSETTO:+0200
TZNAME:CEST
DTSTART:20230326T010000
END:DAYLIGHT
BEGIN:STANDARD
TZOFFSETFROM:+0200
TZOFFSETTO:+0100
TZNAME:CET
DTSTART:20231029T010000
END:STANDARD
BEGIN:DAYLIGHT
TZOFFSETFROM:+0100
TZOFFSETTO:+0200
TZNAME:CEST
DTSTART:20240331T010000
END:DAYLIGHT
BEGIN:STANDARD
TZOFFSETFROM:+0200
TZOFFSETTO:+0100
TZNAME:CET
DTSTART:20241027T010000
END:STANDARD
END:VTIMEZONE
BEGIN:VEVENT
DTSTART;TZID=Europe/Berlin:20231001T163000
DTEND;TZID=Europe/Berlin:20231001T220000
DTSTAMP:20260423T144540
CREATED:20230909T114920Z
LAST-MODIFIED:20230912T043440Z
UID:6114-1696177800-1696197600@docker.mv-sulzbach.de
SUMMARY:Ständchen
DESCRIPTION:Hermann Mühleck\, 60 \n  \nin Hungen
URL:https://docker.mv-sulzbach.de/event/staendchen-88/
LOCATION:Braunwarthsmühle\, Friedhofstraße 5\, Sulzbach\, 63834\, Deutschland
CATEGORIES:Ständchen
END:VEVENT
BEGIN:VEVENT
DTSTART;TZID=Europe/Berlin:20231006T194500
DTEND;TZID=Europe/Berlin:20231006T214500
DTSTAMP:20260423T144540
CREATED:20230328T174734Z
LAST-MODIFIED:20230328T174734Z
UID:5934-1696621500-1696628700@docker.mv-sulzbach.de
SUMMARY:Probe Blasorchester
DESCRIPTION:
URL:https://docker.mv-sulzbach.de/event/probe-blasorchester-322/
LOCATION:Braunwarthsmühle\, Friedhofstraße 5\, Sulzbach\, 63834\, Deutschland
CATEGORIES:Probe
END:VEVENT
BEGIN:VEVENT
DTSTART;TZID=Europe/Berlin:20231007T090000
DTEND;TZID=Europe/Berlin:20231007T160000
DTSTAMP:20260423T144540
CREATED:20230116T170855Z
LAST-MODIFIED:20230116T170855Z
UID:5791-1696669200-1696694400@docker.mv-sulzbach.de
SUMMARY:Probentag zum "Kino für die Ohren"-Konzert
DESCRIPTION:
URL:https://docker.mv-sulzbach.de/event/probentag-zum-kino-fuer-die-ohren-konzert/
LOCATION:Braunwarthsmühle\, Friedhofstraße 5\, Sulzbach\, 63834\, Deutschland
CATEGORIES:Probe,Sonderprobe
END:VEVENT
BEGIN:VEVENT
DTSTART;TZID=Europe/Berlin:20231010T193000
DTEND;TZID=Europe/Berlin:20231010T220000
DTSTAMP:20260423T144540
CREATED:20230925T114112Z
LAST-MODIFIED:20230925T114112Z
UID:6135-1696966200-1696975200@docker.mv-sulzbach.de
SUMMARY:Ausschusssitzung
DESCRIPTION:
URL:https://docker.mv-sulzbach.de/event/ausschusssitzung-73/
LOCATION:Braunwarthsmühle\, Friedhofstraße 5\, Sulzbach\, 63834\, Deutschland
CATEGORIES:Auschuss
END:VEVENT
BEGIN:VEVENT
DTSTART;TZID=Europe/Berlin:20231013T194500
DTEND;TZID=Europe/Berlin:20231013T214500
DTSTAMP:20260423T144540
CREATED:20230328T174747Z
LAST-MODIFIED:20230328T174747Z
UID:5936-1697226300-1697233500@docker.mv-sulzbach.de
SUMMARY:Probe Blasorchester
DESCRIPTION:
URL:https://docker.mv-sulzbach.de/event/probe-blasorchester-323/
LOCATION:Braunwarthsmühle\, Friedhofstraße 5\, Sulzbach\, 63834\, Deutschland
CATEGORIES:Probe
END:VEVENT
BEGIN:VEVENT
DTSTART;TZID=Europe/Berlin:20231019T193000
DTEND;TZID=Europe/Berlin:20231019T214500
DTSTAMP:20260423T144540
CREATED:20230328T174837Z
LAST-MODIFIED:20230328T174837Z
UID:5940-1697743800-1697751900@docker.mv-sulzbach.de
SUMMARY:Probe Blasorchester
DESCRIPTION:
URL:https://docker.mv-sulzbach.de/event/probe-blasorchester-325/
LOCATION:Braunwarthsmühle\, Friedhofstraße 5\, Sulzbach\, 63834\, Deutschland
CATEGORIES:Probe
END:VEVENT
BEGIN:VEVENT
DTSTART;TZID=Europe/Berlin:20231020T133000
DTEND;TZID=Europe/Berlin:20231020T183000
DTSTAMP:20260423T144540
CREATED:20230912T043250Z
LAST-MODIFIED:20230912T043250Z
UID:6120-1697808600-1697826600@docker.mv-sulzbach.de
SUMMARY:Aufbau zum Konzert
DESCRIPTION:
URL:https://docker.mv-sulzbach.de/event/aufbau-zum-konzert-3/
LOCATION:Main-Spessart-Halle\, Schulstraße\, Sulzbach\, 63834\, Deutschland
CATEGORIES:Sonstiges
END:VEVENT
BEGIN:VEVENT
DTSTART;TZID=Europe/Berlin:20231020T194500
DTEND;TZID=Europe/Berlin:20231020T214500
DTSTAMP:20260423T144540
CREATED:20230328T174813Z
LAST-MODIFIED:20230328T174813Z
UID:5938-1697831100-1697838300@docker.mv-sulzbach.de
SUMMARY:Probe Blasorchester
DESCRIPTION:
URL:https://docker.mv-sulzbach.de/event/probe-blasorchester-324/
LOCATION:Main-Spessart-Halle\, Schulstraße\, Sulzbach\, 63834\, Deutschland
CATEGORIES:Probe
END:VEVENT
BEGIN:VEVENT
DTSTART;TZID=Europe/Berlin:20231021T093000
DTEND;TZID=Europe/Berlin:20231021T130000
DTSTAMP:20260423T144540
CREATED:20230912T043350Z
LAST-MODIFIED:20230912T043350Z
UID:6122-1697880600-1697893200@docker.mv-sulzbach.de
SUMMARY:Probe Blasorchester
DESCRIPTION:
URL:https://docker.mv-sulzbach.de/event/probe-blasorchester-326/
LOCATION:Main-Spessart-Halle\, Schulstraße\, Sulzbach\, 63834\, Deutschland
CATEGORIES:Probe,Sonderprobe
END:VEVENT
BEGIN:VEVENT
DTSTART;TZID=Europe/Berlin:20231021T180000
DTEND;TZID=Europe/Berlin:20231021T203000
DTSTAMP:20260423T144540
CREATED:20230912T043732Z
LAST-MODIFIED:20230912T043732Z
UID:6124-1697911200-1697920200@docker.mv-sulzbach.de
SUMMARY:Generalprobe "Kino für die Ohren"
DESCRIPTION:
URL:https://docker.mv-sulzbach.de/event/generalprobe-kino-fuer-die-ohren/
LOCATION:Main-Spessart-Halle\, Schulstraße\, Sulzbach\, 63834\, Deutschland
CATEGORIES:Probe,Sonderprobe
END:VEVENT
BEGIN:VEVENT
DTSTART;TZID=Europe/Berlin:20231022T180000
DTEND;TZID=Europe/Berlin:20231022T210000
DTSTAMP:20260423T144540
CREATED:20220330T101938Z
LAST-MODIFIED:20230908T105719Z
UID:5366-1697997600-1698008400@docker.mv-sulzbach.de
SUMMARY:Kino für die Ohren
DESCRIPTION:
URL:https://docker.mv-sulzbach.de/event/kino-fuer-die-ohren/
LOCATION:Main-Spessart-Halle\, Schulstraße\, Sulzbach\, 63834\, Deutschland
CATEGORIES:Aufritt
END:VEVENT
BEGIN:VEVENT
DTSTART;TZID=Europe/Berlin:20231028T170000
DTEND;TZID=Europe/Berlin:20231028T170000
DTSTAMP:20260423T144540
CREATED:20230912T123635Z
LAST-MODIFIED:20230912T123635Z
UID:6126-1698512400-1698512400@docker.mv-sulzbach.de
SUMMARY:Festhelferabend
DESCRIPTION:
URL:https://docker.mv-sulzbach.de/event/festhelferabend/
CATEGORIES:Gemeinschaft
END:VEVENT
END:VCALENDAR