BEGIN:VCALENDAR
VERSION:2.0
PRODID:-//Musikverein Edelweiß - ECPv6.15.17//NONSGML v1.0//EN
CALSCALE:GREGORIAN
METHOD:PUBLISH
X-ORIGINAL-URL:https://docker.mv-sulzbach.de
X-WR-CALDESC:Veranstaltungen für Musikverein Edelweiß
REFRESH-INTERVAL;VALUE=DURATION:PT1H
X-Robots-Tag:noindex
X-PUBLISHED-TTL:PT1H
BEGIN:VTIMEZONE
TZID:Europe/Berlin
BEGIN:DAYLIGHT
TZOFFSETFROM:+0100
TZOFFSETTO:+0200
TZNAME:CEST
DTSTART:20220327T010000
END:DAYLIGHT
BEGIN:STANDARD
TZOFFSETFROM:+0200
TZOFFSETTO:+0100
TZNAME:CET
DTSTART:20221030T010000
END:STANDARD
BEGIN:DAYLIGHT
TZOFFSETFROM:+0100
TZOFFSETTO:+0200
TZNAME:CEST
DTSTART:20230326T010000
END:DAYLIGHT
BEGIN:STANDARD
TZOFFSETFROM:+0200
TZOFFSETTO:+0100
TZNAME:CET
DTSTART:20231029T010000
END:STANDARD
BEGIN:DAYLIGHT
TZOFFSETFROM:+0100
TZOFFSETTO:+0200
TZNAME:CEST
DTSTART:20240331T010000
END:DAYLIGHT
BEGIN:STANDARD
TZOFFSETFROM:+0200
TZOFFSETTO:+0100
TZNAME:CET
DTSTART:20241027T010000
END:STANDARD
END:VTIMEZONE
BEGIN:VEVENT
DTSTART;TZID=Europe/Berlin:20231101T140000
DTEND;TZID=Europe/Berlin:20231101T140000
DTSTAMP:20260423T132135
CREATED:20230114T083145Z
LAST-MODIFIED:20230114T083145Z
UID:5774-1698847200-1698847200@docker.mv-sulzbach.de
SUMMARY:Andacht zu Allerheiligen
DESCRIPTION:
URL:https://docker.mv-sulzbach.de/event/andacht-zu-allerheiligen-6/
LOCATION:Friedhof
CATEGORIES:Kirchlich
END:VEVENT
BEGIN:VEVENT
DTSTART;TZID=Europe/Berlin:20231102T193000
DTEND;TZID=Europe/Berlin:20231102T193000
DTSTAMP:20260423T132135
CREATED:20230114T083229Z
LAST-MODIFIED:20230114T083229Z
UID:5776-1698953400-1698953400@docker.mv-sulzbach.de
SUMMARY:Friedhofsgang zu Allerseelen
DESCRIPTION:
URL:https://docker.mv-sulzbach.de/event/friedhofsgang-zu-allerseelen-7/
LOCATION:Friedhof
CATEGORIES:Kirchlich
END:VEVENT
BEGIN:VEVENT
DTSTART;TZID=Europe/Berlin:20231103T194500
DTEND;TZID=Europe/Berlin:20231103T214500
DTSTAMP:20260423T132135
CREATED:20231023T171553Z
LAST-MODIFIED:20231023T171553Z
UID:6150-1699040700-1699047900@docker.mv-sulzbach.de
SUMMARY:Probe Blasorchester
DESCRIPTION:
URL:https://docker.mv-sulzbach.de/event/probe-blasorchester-327/
LOCATION:Braunwarthsmühle\, Friedhofstraße 5\, Sulzbach\, 63834\, Deutschland
CATEGORIES:Probe
END:VEVENT
BEGIN:VEVENT
DTSTART;TZID=Europe/Berlin:20231110T194500
DTEND;TZID=Europe/Berlin:20231110T214500
DTSTAMP:20260423T132135
CREATED:20231023T171612Z
LAST-MODIFIED:20231023T171612Z
UID:6152-1699645500-1699652700@docker.mv-sulzbach.de
SUMMARY:Probe Blasorchester
DESCRIPTION:
URL:https://docker.mv-sulzbach.de/event/probe-blasorchester-328/
LOCATION:Braunwarthsmühle\, Friedhofstraße 5\, Sulzbach\, 63834\, Deutschland
CATEGORIES:Probe
END:VEVENT
BEGIN:VEVENT
DTSTART;TZID=Europe/Berlin:20231112T173000
DTEND;TZID=Europe/Berlin:20231112T173000
DTSTAMP:20260423T132135
CREATED:20230114T083311Z
LAST-MODIFIED:20230114T083311Z
UID:5778-1699810200-1699810200@docker.mv-sulzbach.de
SUMMARY:Martinszug
DESCRIPTION:
URL:https://docker.mv-sulzbach.de/event/martinszug-5/
LOCATION:Kirchplatz
CATEGORIES:Kirchlich
END:VEVENT
BEGIN:VEVENT
DTSTART;TZID=Europe/Berlin:20231113T193000
DTEND;TZID=Europe/Berlin:20231113T213000
DTSTAMP:20260423T132135
CREATED:20231105T172757Z
LAST-MODIFIED:20231105T172757Z
UID:6201-1699903800-1699911000@docker.mv-sulzbach.de
SUMMARY:Ausschusssitzung
DESCRIPTION:
URL:https://docker.mv-sulzbach.de/event/ausschusssitzung-74/
LOCATION:Braunwarthsmühle\, Friedhofstraße 5\, Sulzbach\, 63834\, Deutschland
CATEGORIES:Auschuss
END:VEVENT
BEGIN:VEVENT
DTSTART;TZID=Europe/Berlin:20231117T194500
DTEND;TZID=Europe/Berlin:20231117T214500
DTSTAMP:20260423T132135
CREATED:20231023T171628Z
LAST-MODIFIED:20231023T171628Z
UID:6154-1700250300-1700257500@docker.mv-sulzbach.de
SUMMARY:Probe Blasorchester
DESCRIPTION:
URL:https://docker.mv-sulzbach.de/event/probe-blasorchester-329/
LOCATION:Braunwarthsmühle\, Friedhofstraße 5\, Sulzbach\, 63834\, Deutschland
CATEGORIES:Probe
END:VEVENT
BEGIN:VEVENT
DTSTART;TZID=Europe/Berlin:20231119T110000
DTEND;TZID=Europe/Berlin:20231119T120000
DTSTAMP:20260423T132135
CREATED:20231106T085542Z
LAST-MODIFIED:20231106T085542Z
UID:6203-1700391600-1700395200@docker.mv-sulzbach.de
SUMMARY:Feierstunde zum Volkstrauertag
DESCRIPTION:
URL:https://docker.mv-sulzbach.de/event/feierstunde-zum-volkstrauertag-6/
LOCATION:Friedhof
CATEGORIES:Kommunal
END:VEVENT
BEGIN:VEVENT
DTSTART;TZID=Europe/Berlin:20231124T194500
DTEND;TZID=Europe/Berlin:20231124T214500
DTSTAMP:20260423T132135
CREATED:20231023T171643Z
LAST-MODIFIED:20231023T171643Z
UID:6156-1700855100-1700862300@docker.mv-sulzbach.de
SUMMARY:Probe Blasorchester
DESCRIPTION:
URL:https://docker.mv-sulzbach.de/event/probe-blasorchester-330/
LOCATION:Braunwarthsmühle\, Friedhofstraße 5\, Sulzbach\, 63834\, Deutschland
CATEGORIES:Probe
END:VEVENT
END:VCALENDAR